BEGIN:VCALENDAR
VERSION:2.0
PRODID:-//aldridgegardens.com//NONSGML kigkonsult.se iCalcreator 2.30.10//
CALSCALE:GREGORIAN
METHOD:PUBLISH
UID:85270afa-a37b-4a9f-811e-9d5bbc0d85ba
X-WR-CALDESC:<b>Summer Camps for the week of June 12 - 16</b>\n\nAmerican G
 irls in Aldridge Gardens Entering Grades 5K – 3\nEngineering FUNdamentals:
  Create\, Construct\, Connect! Grades 5K – 2\nObserving your Observing: Us
 ing ALL your senses mindfully Grades 5K – 2\n
X-WR-RELCALID:072ec0c550bfff61e5179421543d416d
X-WR-TIMEZONE:America/Chicago
BEGIN:VTIMEZONE
TZID:America/Chicago
BEGIN:STANDARD
TZNAME:CST
DTSTART:20161106T020000
TZOFFSETFROM:-0500
TZOFFSETTO:-0600
RDATE:20171105T020000
RDATE:20181104T020000
END:STANDARD
BEGIN:DAYLIGHT
TZNAME:CDT
DTSTART:20170312T020000
TZOFFSETFROM:-0600
TZOFFSETTO:-0500
RDATE:20180311T020000
END:DAYLIGHT
END:VTIMEZONE
BEGIN:VEVENT
UID:c1d73dcd-89f1-4f3e-bb1d-c0bf43822fd7
DTSTAMP:20260421T224215Z
DESCRIPTION:<b>Summer Camps for the week of June 12 - 16</b>\n\nAmerican Gi
 rls in Aldridge Gardens Entering Grades 5K – 3\nEngineering FUNdamentals: 
 Create\, Construct\, Connect! Grades 5K – 2\nObserving your Observing: Usi
 ng ALL your senses mindfully Grades 5K – 2\n
DTSTART;TZID=America/Chicago:20170613T090000
DTEND;TZID=America/Chicago:20170613T120000
LOCATION:
SUMMARY:Summer Camps
END:VEVENT
END:VCALENDAR
