BEGIN:VCALENDAR
VERSION:2.0
PRODID:-//aldridgegardens.com//NONSGML kigkonsult.se iCalcreator 2.30.10//
CALSCALE:GREGORIAN
METHOD:PUBLISH
UID:73dffeb7-1875-4282-acd2-e3bb367d6b01
X-WR-CALDESC:<b>Summer Camps for the week of June 12 - 16</b>\n\nAmerican G
 irls in Aldridge Gardens Entering Grades 5K – 3\nEngineering FUNdamentals:
  Create\, Construct\, Connect! Grades 5K – 2\nObserving your Observing: Us
 ing ALL your senses mindfully Grades 5K – 2\n
X-WR-RELCALID:643705f6b2adbd52bf33946f04460567
X-WR-TIMEZONE:America/Chicago
BEGIN:VTIMEZONE
TZID:America/Chicago
BEGIN:STANDARD
TZNAME:CST
DTSTART:20161106T020000
TZOFFSETFROM:-0500
TZOFFSETTO:-0600
RDATE:20171105T020000
RDATE:20181104T020000
END:STANDARD
BEGIN:DAYLIGHT
TZNAME:CDT
DTSTART:20170312T020000
TZOFFSETFROM:-0600
TZOFFSETTO:-0500
RDATE:20180311T020000
END:DAYLIGHT
END:VTIMEZONE
BEGIN:VEVENT
UID:73198aac-10ac-40a1-8031-693d65e47a3f
DTSTAMP:20260421T224303Z
DESCRIPTION:<b>Summer Camps for the week of June 12 - 16</b>\n\nAmerican Gi
 rls in Aldridge Gardens Entering Grades 5K – 3\nEngineering FUNdamentals: 
 Create\, Construct\, Connect! Grades 5K – 2\nObserving your Observing: Usi
 ng ALL your senses mindfully Grades 5K – 2\n
DTSTART;TZID=America/Chicago:20170615T090000
DTEND;TZID=America/Chicago:20170615T120000
LOCATION:
SUMMARY:Summer Camps
END:VEVENT
END:VCALENDAR
