BEGIN:VCALENDAR
VERSION:2.0
PRODID:-//aldridgegardens.com//NONSGML kigkonsult.se iCalcreator 2.30.10//
CALSCALE:GREGORIAN
METHOD:PUBLISH
UID:714c19a5-aaca-4980-86f0-98928a5e0fde
X-WR-CALDESC:<b>Summer Camps for the week of June 12 - 16</b>\n\nAmerican G
 irls in Aldridge Gardens Entering Grades 5K – 3\nEngineering FUNdamentals:
  Create\, Construct\, Connect! Grades 5K – 2\nObserving your Observing: Us
 ing ALL your senses mindfully Grades 5K – 2\n
X-WR-RELCALID:4fa334abd3c59a3110c29cd5ea77c2ff
X-WR-TIMEZONE:America/Chicago
BEGIN:VTIMEZONE
TZID:America/Chicago
BEGIN:STANDARD
TZNAME:CST
DTSTART:20161106T020000
TZOFFSETFROM:-0500
TZOFFSETTO:-0600
RDATE:20171105T020000
RDATE:20181104T020000
END:STANDARD
BEGIN:DAYLIGHT
TZNAME:CDT
DTSTART:20170312T020000
TZOFFSETFROM:-0600
TZOFFSETTO:-0500
RDATE:20180311T020000
END:DAYLIGHT
END:VTIMEZONE
BEGIN:VEVENT
UID:a735b9da-ee4f-448c-96ef-f325e3f2a55c
DTSTAMP:20260421T224248Z
DESCRIPTION:<b>Summer Camps for the week of June 12 - 16</b>\n\nAmerican Gi
 rls in Aldridge Gardens Entering Grades 5K – 3\nEngineering FUNdamentals: 
 Create\, Construct\, Connect! Grades 5K – 2\nObserving your Observing: Usi
 ng ALL your senses mindfully Grades 5K – 2\n
DTSTART;TZID=America/Chicago:20170616T090000
DTEND;TZID=America/Chicago:20170616T120000
LOCATION:
SUMMARY:Summer Camps
END:VEVENT
END:VCALENDAR
