BEGIN:VCALENDAR
VERSION:2.0
PRODID:-//aldridgegardens.com//NONSGML kigkonsult.se iCalcreator 2.30.10//
CALSCALE:GREGORIAN
METHOD:PUBLISH
UID:fc052686-3c3e-422e-bace-39a5f29738c6
X-WR-CALDESC:June 19 - 23\nEntering Grades 5k – 2\n\nConstruction in Nature
 : Experimenting with Materials\n\nInstructor: Karen Pirkle\, M.A. Early Ch
 ildhood\n\nStudents will explore nature and experiment with using differen
 t materials to make a cricket house\, a fishing pole\, a bridge\, a dam\, 
 and bird feeder.
X-WR-RELCALID:a40d4088f754d16f2300c9a155b55fdf
X-WR-TIMEZONE:America/Chicago
BEGIN:VTIMEZONE
TZID:America/Chicago
BEGIN:STANDARD
TZNAME:CST
DTSTART:20161106T020000
TZOFFSETFROM:-0500
TZOFFSETTO:-0600
RDATE:20171105T020000
RDATE:20181104T020000
END:STANDARD
BEGIN:DAYLIGHT
TZNAME:CDT
DTSTART:20170312T020000
TZOFFSETFROM:-0600
TZOFFSETTO:-0500
RDATE:20180311T020000
END:DAYLIGHT
END:VTIMEZONE
BEGIN:VEVENT
UID:ce063666-0e1d-4007-bfb8-9e39c68bca26
DTSTAMP:20260421T224222Z
DESCRIPTION:June 19 - 23\nEntering Grades 5k – 2\n\nConstruction in Nature:
  Experimenting with Materials\n\nInstructor: Karen Pirkle\, M.A. Early Chi
 ldhood\n\nStudents will explore nature and experiment with using different
  materials to make a cricket house\, a fishing pole\, a bridge\, a dam\, a
 nd bird feeder.
DTSTART;TZID=America/Chicago:20170619T090000
DTEND;TZID=America/Chicago:20170619T120000
LOCATION:
SUMMARY:Summer Camp: Construction in Nature Grades 5k-2nd
END:VEVENT
END:VCALENDAR
