BEGIN:VCALENDAR
VERSION:2.0
PRODID:-//aldridgegardens.com//NONSGML kigkonsult.se iCalcreator 2.30.10//
CALSCALE:GREGORIAN
METHOD:PUBLISH
UID:916aecfe-f107-4c0a-9772-2fe1c98c5d3a
X-WR-CALDESC:June 19 - 23\nEntering Grades 2 - 4\n\nCool Art in the Gardens
 : Looking at the World differently!\n\nInstructor: Leigh Smith\, BS Early 
 Childhood\, MA Elementary Education\n\nStudents will be involved in projec
 ts that connect art and nature. The beautiful landscape of the gardens wil
 l provide an outdoor art studio where children can let their creativity gr
 ow. Students will practice a wide variety of art techniques\, from waterco
 lor painting to sculpture and leaf pounding. Our week will be filled with 
 creativity\, new friends\, and moments of age appropriate inspiration that
  will delight a young artist. \n
X-WR-RELCALID:7c184adb4891f87371e1925910f7bc47
X-WR-TIMEZONE:America/Chicago
BEGIN:VTIMEZONE
TZID:America/Chicago
BEGIN:STANDARD
TZNAME:CST
DTSTART:20161106T020000
TZOFFSETFROM:-0500
TZOFFSETTO:-0600
RDATE:20171105T020000
RDATE:20181104T020000
END:STANDARD
BEGIN:DAYLIGHT
TZNAME:CDT
DTSTART:20170312T020000
TZOFFSETFROM:-0600
TZOFFSETTO:-0500
RDATE:20180311T020000
END:DAYLIGHT
END:VTIMEZONE
BEGIN:VEVENT
UID:413f8ee2-c2bc-43aa-afa0-9adb0a023e49
DTSTAMP:20260421T230104Z
DESCRIPTION:June 19 - 23\nEntering Grades 2 - 4\n\nCool Art in the Gardens:
  Looking at the World differently!\n\nInstructor: Leigh Smith\, BS Early C
 hildhood\, MA Elementary Education\n\nStudents will be involved in project
 s that connect art and nature. The beautiful landscape of the gardens will
  provide an outdoor art studio where children can let their creativity gro
 w. Students will practice a wide variety of art techniques\, from watercol
 or painting to sculpture and leaf pounding. Our week will be filled with c
 reativity\, new friends\, and moments of age appropriate inspiration that 
 will delight a young artist. \n
DTSTART;TZID=America/Chicago:20170619T090000
DTEND;TZID=America/Chicago:20170619T120000
LOCATION:
SUMMARY:Summer Camp: Cool Art in the Gardens Grades 2nd-4th
END:VEVENT
END:VCALENDAR
