BEGIN:VCALENDAR
VERSION:2.0
PRODID:-//aldridgegardens.com//NONSGML kigkonsult.se iCalcreator 2.30.10//
CALSCALE:GREGORIAN
METHOD:PUBLISH
UID:385e5289-2db9-4c96-9f4b-127eca027de3
X-WR-CALDESC:<b>Summer Camps for the week of June 19 - 23</b>\n\nAmerican G
 irls in Aldridge Gardens Entering Grades 5K – 3\nConstruction in Nature: E
 xperimenting with Materials Grades 5K – 2\nCool Art in the Gardens: Lookin
 g at the World differently! Grades 2 – 4\n
X-WR-RELCALID:3964641ffc37e64f9c865805f47a8e90
X-WR-TIMEZONE:America/Chicago
BEGIN:VTIMEZONE
TZID:America/Chicago
BEGIN:STANDARD
TZNAME:CST
DTSTART:20161106T020000
TZOFFSETFROM:-0500
TZOFFSETTO:-0600
RDATE:20171105T020000
RDATE:20181104T020000
END:STANDARD
BEGIN:DAYLIGHT
TZNAME:CDT
DTSTART:20170312T020000
TZOFFSETFROM:-0600
TZOFFSETTO:-0500
RDATE:20180311T020000
END:DAYLIGHT
END:VTIMEZONE
BEGIN:VEVENT
UID:90e96b0f-43a1-47f8-9ac5-b1c64c1467a9
DTSTAMP:20260421T224120Z
DESCRIPTION:<b>Summer Camps for the week of June 19 - 23</b>\n\nAmerican Gi
 rls in Aldridge Gardens Entering Grades 5K – 3\nConstruction in Nature: Ex
 perimenting with Materials Grades 5K – 2\nCool Art in the Gardens: Looking
  at the World differently! Grades 2 – 4\n
DTSTART;TZID=America/Chicago:20170621T090000
DTEND;TZID=America/Chicago:20170621T120000
LOCATION:
SUMMARY:Summer Camps
END:VEVENT
END:VCALENDAR
