BEGIN:VCALENDAR
VERSION:2.0
PRODID:-//aldridgegardens.com//NONSGML kigkonsult.se iCalcreator 2.30.10//
CALSCALE:GREGORIAN
METHOD:PUBLISH
UID:7af8f517-ff4f-4ce9-833e-f0ff8a3b9c8f
X-WR-CALDESC:<b>Summer Camps for the week of June 19 - 23</b>\n\nAmerican G
 irls in Aldridge Gardens Entering Grades 5K – 3\nConstruction in Nature: E
 xperimenting with Materials Grades 5K – 2\nCool Art in the Gardens: Lookin
 g at the World differently! Grades 2 – 4\n
X-WR-RELCALID:4f5cd09f02adfd828e67c852fb23acef
X-WR-TIMEZONE:America/Chicago
BEGIN:VTIMEZONE
TZID:America/Chicago
BEGIN:STANDARD
TZNAME:CST
DTSTART:20161106T020000
TZOFFSETFROM:-0500
TZOFFSETTO:-0600
RDATE:20171105T020000
RDATE:20181104T020000
END:STANDARD
BEGIN:DAYLIGHT
TZNAME:CDT
DTSTART:20170312T020000
TZOFFSETFROM:-0600
TZOFFSETTO:-0500
RDATE:20180311T020000
END:DAYLIGHT
END:VTIMEZONE
BEGIN:VEVENT
UID:b4c8a7f9-d9b0-4d96-bcac-bcde512325c4
DTSTAMP:20260421T224457Z
DESCRIPTION:<b>Summer Camps for the week of June 19 - 23</b>\n\nAmerican Gi
 rls in Aldridge Gardens Entering Grades 5K – 3\nConstruction in Nature: Ex
 perimenting with Materials Grades 5K – 2\nCool Art in the Gardens: Looking
  at the World differently! Grades 2 – 4\n
DTSTART;TZID=America/Chicago:20170623T090000
DTEND;TZID=America/Chicago:20170623T120000
LOCATION:
SUMMARY:Summer Camps
END:VEVENT
END:VCALENDAR
