BEGIN:VCALENDAR
VERSION:2.0
PRODID:-//aldridgegardens.com//NONSGML kigkonsult.se iCalcreator 2.30.10//
CALSCALE:GREGORIAN
METHOD:PUBLISH
UID:aa7bae5d-63b8-4473-b4ce-7a0f644dab3c
X-WR-CALDESC:June 26 - 30\nEntering Grades 5k – 3\n\nIt’s time for summer! 
 Girls\, are you ready for some fun? Bring your doll to camp at Aldridge Ga
 rdens. (May also include My Life or Our Generation Dolls.) You and your do
 ll will explore the magic of the Gardens\, you’ll make all kinds of access
 ories and crafts for you and your dolls\, and even have a tea party!  Join
  us as we make new friends and great memories!\n\nInstructor: Casey Johnso
 n\, BA Elementary Education
X-WR-RELCALID:f0e8e850517c82dedc51380c38079cd6
X-WR-TIMEZONE:America/Chicago
BEGIN:VTIMEZONE
TZID:America/Chicago
BEGIN:STANDARD
TZNAME:CST
DTSTART:20161106T020000
TZOFFSETFROM:-0500
TZOFFSETTO:-0600
RDATE:20171105T020000
RDATE:20181104T020000
END:STANDARD
BEGIN:DAYLIGHT
TZNAME:CDT
DTSTART:20170312T020000
TZOFFSETFROM:-0600
TZOFFSETTO:-0500
RDATE:20180311T020000
END:DAYLIGHT
END:VTIMEZONE
BEGIN:VEVENT
UID:7dee42e4-97e2-4b16-9e78-6289a6cfd030
DTSTAMP:20260421T224701Z
DESCRIPTION:June 26 - 30\nEntering Grades 5k – 3\n\nIt’s time for summer! G
 irls\, are you ready for some fun? Bring your doll to camp at Aldridge Gar
 dens. (May also include My Life or Our Generation Dolls.) You and your dol
 l will explore the magic of the Gardens\, you’ll make all kinds of accesso
 ries and crafts for you and your dolls\, and even have a tea party!  Join 
 us as we make new friends and great memories!\n\nInstructor: Casey Johnson
 \, BA Elementary Education
DTSTART;TZID=America/Chicago:20170626T090000
DTEND;TZID=America/Chicago:20170626T120000
LOCATION:
SUMMARY:Summer Camp: American Girls Grades 5k-3rd
END:VEVENT
END:VCALENDAR
