BEGIN:VCALENDAR
VERSION:2.0
PRODID:-//aldridgegardens.com//NONSGML kigkonsult.se iCalcreator 2.30.10//
CALSCALE:GREGORIAN
METHOD:PUBLISH
UID:8ad6f479-c311-4718-9ec9-55ded65323e4
X-WR-CALDESC:June 26 - 30\nEntering Grades 2-4\n\nCool Art in the Gardens: 
 Looking at the World differently!\n\nInstructor: Leigh Smith\, BS Early Ch
 ildhood\, MA Elementary Education\n\nStudents will explore nature and expe
 riment with using different materials to make a cricket house\, a fishing 
 pole\, a bridge\, a dam\, and bird feeder.\n
X-WR-RELCALID:72844fc4144680695715beb84db6dce2
X-WR-TIMEZONE:America/Chicago
BEGIN:VTIMEZONE
TZID:America/Chicago
BEGIN:STANDARD
TZNAME:CST
DTSTART:20161106T020000
TZOFFSETFROM:-0500
TZOFFSETTO:-0600
RDATE:20171105T020000
RDATE:20181104T020000
END:STANDARD
BEGIN:DAYLIGHT
TZNAME:CDT
DTSTART:20170312T020000
TZOFFSETFROM:-0600
TZOFFSETTO:-0500
RDATE:20180311T020000
END:DAYLIGHT
END:VTIMEZONE
BEGIN:VEVENT
UID:6911b4ef-bcd8-43cd-9797-f0c7072d9c66
DTSTAMP:20260421T224215Z
DESCRIPTION:June 26 - 30\nEntering Grades 2-4\n\nCool Art in the Gardens: L
 ooking at the World differently!\n\nInstructor: Leigh Smith\, BS Early Chi
 ldhood\, MA Elementary Education\n\nStudents will explore nature and exper
 iment with using different materials to make a cricket house\, a fishing p
 ole\, a bridge\, a dam\, and bird feeder.\n
DTSTART;TZID=America/Chicago:20170626T090000
DTEND;TZID=America/Chicago:20170626T120000
LOCATION:
SUMMARY:Summer Camp: Construction in Nature Grades 2nd-4th
END:VEVENT
END:VCALENDAR
