BEGIN:VCALENDAR
VERSION:2.0
PRODID:-//aldridgegardens.com//NONSGML kigkonsult.se iCalcreator 2.30.10//
CALSCALE:GREGORIAN
METHOD:PUBLISH
UID:ef73f3d9-8398-49c3-abb4-050baa57c722
X-WR-CALDESC:June 26 - 30\nEntering Grades 5k – 2\n\nCool Art in the Garden
 s: Looking at the World differently!\n\nInstructor: Leigh Smith\, BS Early
  Childhood\, MA Elementary Education\n\nStudents will be involved in proje
 cts that connect art and nature. The beautiful landscape of the gardens wi
 ll provide an outdoor art studio where children can let their creativity g
 row. Students will practice a wide variety of art techniques\, from waterc
 olor painting to sculpture and leaf pounding. Our week will be filled with
  creativity\, new friends\, and moments of age appropriate inspiration tha
 t will delight a young artist.\n
X-WR-RELCALID:ec7da456603ecbc4b2f8d1c6756d4aed
X-WR-TIMEZONE:America/Chicago
BEGIN:VTIMEZONE
TZID:America/Chicago
BEGIN:STANDARD
TZNAME:CST
DTSTART:20161106T020000
TZOFFSETFROM:-0500
TZOFFSETTO:-0600
RDATE:20171105T020000
RDATE:20181104T020000
END:STANDARD
BEGIN:DAYLIGHT
TZNAME:CDT
DTSTART:20170312T020000
TZOFFSETFROM:-0600
TZOFFSETTO:-0500
RDATE:20180311T020000
END:DAYLIGHT
END:VTIMEZONE
BEGIN:VEVENT
UID:29dfc08b-23f7-4daf-9dd9-8462248e9333
DTSTAMP:20260421T230500Z
DESCRIPTION:June 26 - 30\nEntering Grades 5k – 2\n\nCool Art in the Gardens
 : Looking at the World differently!\n\nInstructor: Leigh Smith\, BS Early 
 Childhood\, MA Elementary Education\n\nStudents will be involved in projec
 ts that connect art and nature. The beautiful landscape of the gardens wil
 l provide an outdoor art studio where children can let their creativity gr
 ow. Students will practice a wide variety of art techniques\, from waterco
 lor painting to sculpture and leaf pounding. Our week will be filled with 
 creativity\, new friends\, and moments of age appropriate inspiration that
  will delight a young artist.\n
DTSTART;TZID=America/Chicago:20170626T090000
DTEND;TZID=America/Chicago:20170626T120000
LOCATION:
SUMMARY:Summer Camp: Cool Art in the Gardens Grades 5k-2nd
END:VEVENT
END:VCALENDAR
