BEGIN:VCALENDAR
VERSION:2.0
PRODID:-//aldridgegardens.com//NONSGML kigkonsult.se iCalcreator 2.30.10//
CALSCALE:GREGORIAN
METHOD:PUBLISH
UID:3ec8db8b-ba7f-4a07-aa8f-d0073f2f5832
X-WR-CALDESC:<b>Summer Camps for the week of June 26 - 30</b>\n\nAmerican G
 irls in Aldridge Gardens Entering Grades 5K – 3\nCool Art in the Gardens: 
 Looking at the World differently! Grades 5K – 2\nConstruction in Nature: E
 xperimenting with Materials Grades 2 – 4\n\n
X-WR-RELCALID:4621b3c0ee95e50d73e74d2a9200b0ca
X-WR-TIMEZONE:America/Chicago
BEGIN:VTIMEZONE
TZID:America/Chicago
BEGIN:STANDARD
TZNAME:CST
DTSTART:20161106T020000
TZOFFSETFROM:-0500
TZOFFSETTO:-0600
RDATE:20171105T020000
RDATE:20181104T020000
END:STANDARD
BEGIN:DAYLIGHT
TZNAME:CDT
DTSTART:20170312T020000
TZOFFSETFROM:-0600
TZOFFSETTO:-0500
RDATE:20180311T020000
END:DAYLIGHT
END:VTIMEZONE
BEGIN:VEVENT
UID:0b11e407-e625-4ca7-9fde-2a39f55350e0
DTSTAMP:20260421T225204Z
DESCRIPTION:<b>Summer Camps for the week of June 26 - 30</b>\n\nAmerican Gi
 rls in Aldridge Gardens Entering Grades 5K – 3\nCool Art in the Gardens: L
 ooking at the World differently! Grades 5K – 2\nConstruction in Nature: Ex
 perimenting with Materials Grades 2 – 4\n\n
DTSTART;TZID=America/Chicago:20170627T090000
DTEND;TZID=America/Chicago:20170627T120000
LOCATION:
SUMMARY:Summer Camps
END:VEVENT
END:VCALENDAR
