BEGIN:VCALENDAR
VERSION:2.0
PRODID:-//aldridgegardens.com//NONSGML kigkonsult.se iCalcreator 2.30.10//
CALSCALE:GREGORIAN
METHOD:PUBLISH
UID:5f6df027-2607-411e-ad7f-c0bdcc9e83eb
X-WR-CALDESC:<b>Summer Camps for the week of June 26 - 30</b>\n\nAmerican G
 irls in Aldridge Gardens Entering Grades 5K – 3\nCool Art in the Gardens: 
 Looking at the World differently! Grades 5K – 2\nConstruction in Nature: E
 xperimenting with Materials Grades 2 – 4\n\n
X-WR-RELCALID:f7a3884fee16067ab8c50c352be51f7d
X-WR-TIMEZONE:America/Chicago
BEGIN:VTIMEZONE
TZID:America/Chicago
BEGIN:STANDARD
TZNAME:CST
DTSTART:20161106T020000
TZOFFSETFROM:-0500
TZOFFSETTO:-0600
RDATE:20171105T020000
RDATE:20181104T020000
END:STANDARD
BEGIN:DAYLIGHT
TZNAME:CDT
DTSTART:20170312T020000
TZOFFSETFROM:-0600
TZOFFSETTO:-0500
RDATE:20180311T020000
END:DAYLIGHT
END:VTIMEZONE
BEGIN:VEVENT
UID:a6a8677b-79d3-4eac-a43e-502ab0293744
DTSTAMP:20260421T224426Z
DESCRIPTION:<b>Summer Camps for the week of June 26 - 30</b>\n\nAmerican Gi
 rls in Aldridge Gardens Entering Grades 5K – 3\nCool Art in the Gardens: L
 ooking at the World differently! Grades 5K – 2\nConstruction in Nature: Ex
 perimenting with Materials Grades 2 – 4\n\n
DTSTART;TZID=America/Chicago:20170629T090000
DTEND;TZID=America/Chicago:20170629T120000
LOCATION:
SUMMARY:Summer Camps
END:VEVENT
END:VCALENDAR
