BEGIN:VCALENDAR
VERSION:2.0
PRODID:-//aldridgegardens.com//NONSGML kigkonsult.se iCalcreator 2.30.10//
CALSCALE:GREGORIAN
METHOD:PUBLISH
UID:ea57a09f-3841-49ed-bb5f-11625ea2ecfe
X-WR-CALDESC:<b>Fairy Gardens for the Young and Young at Heart</b>\n\nJoin 
 us at Aldridge Gardens on \nAugust 1st\, from 2-4pm \nto create your own F
 airy Garden.  \n\nBring your own pot or dish or saucer and spend an hour o
 r two creating an inviting fairy playground or landscape.  Moss\, gravels\
 , twigs\, bits\, and ideas provided. Each participant will receive a 20% o
 ff coupon to Myers Plants and Pottery for Fairy Garden supplies.  \n\nA de
 lightful outing for a Grandparent (registered) and a grandchild (between 5
  & 12) (no charge tag-a-long) or for just stretching your imagination.  Se
 e a demonstration and discussion of fairy gardens by Carol Hunter of Myers
  Plants and Pottery. Then participate in a hands-on make-and-take session 
 led by Aldridge Gardens own Debbie McDonald. \n\n$30 for members\, $35 for
  nonmembers.  \n\nSpace is limited so sign up soon!
X-WR-RELCALID:a3abb4efe28c7fab4f98c7597bf54359
X-WR-TIMEZONE:America/Chicago
BEGIN:VTIMEZONE
TZID:America/Chicago
BEGIN:STANDARD
TZNAME:CST
DTSTART:20161106T020000
TZOFFSETFROM:-0500
TZOFFSETTO:-0600
RDATE:20171105T020000
RDATE:20181104T020000
END:STANDARD
BEGIN:DAYLIGHT
TZNAME:CDT
DTSTART:20170312T020000
TZOFFSETFROM:-0600
TZOFFSETTO:-0500
RDATE:20180311T020000
END:DAYLIGHT
END:VTIMEZONE
BEGIN:VEVENT
UID:98dc1267-5469-46fd-8186-3928cbe1ebd6
DTSTAMP:20260421T191719Z
DESCRIPTION:<b>Fairy Gardens for the Young and Young at Heart</b>\n\nJoin u
 s at Aldridge Gardens on \nAugust 1st\, from 2-4pm \nto create your own Fa
 iry Garden.  \n\nBring your own pot or dish or saucer and spend an hour or
  two creating an inviting fairy playground or landscape.  Moss\, gravels\,
  twigs\, bits\, and ideas provided. Each participant will receive a 20% of
 f coupon to Myers Plants and Pottery for Fairy Garden supplies.  \n\nA del
 ightful outing for a Grandparent (registered) and a grandchild (between 5 
 & 12) (no charge tag-a-long) or for just stretching your imagination.  See
  a demonstration and discussion of fairy gardens by Carol Hunter of Myers 
 Plants and Pottery. Then participate in a hands-on make-and-take session l
 ed by Aldridge Gardens own Debbie McDonald. \n\n$30 for members\, $35 for 
 nonmembers.  \n\nSpace is limited so sign up soon!
DTSTART;TZID=America/Chicago:20170801T140000
DTEND;TZID=America/Chicago:20170801T160000
LOCATION:Patio Behind the Aldridge Gardens House
SUMMARY:Create Your Own Fairy Garden Workshop
END:VEVENT
END:VCALENDAR
