BEGIN:VCALENDAR
VERSION:2.0
PRODID:-//aldridgegardens.com//NONSGML kigkonsult.se iCalcreator 2.30.10//
CALSCALE:GREGORIAN
METHOD:PUBLISH
UID:58fd6d6d-d24b-4651-8b7a-11dbfc6b5770
X-WR-CALDESC:Class Dates and Times:\nTuesday\, August 15 from 6:30 to 7:30 
 p.m. \n<a href='http://aldridgegardens.com/education/events/spring_event_c
 alendar.html/event/2017/08/22/tai-chi-for-health/167115'>Tuesday\, August 
 22 from 6:30 to 7:30 p.m.</a>\n<a href='http://aldridgegardens.com/educati
 on/events/spring_event_calendar.html/event/2017/08/29/tai-chi-for-health/1
 67116'>Tuesday\, August 29 from 8:00 to 9:00 a.m. (morning class)</a>\n\nT
 his FREE class is being offered by Many Infinities partnering with AlaQues
 t Wellness\, for people seeking to relieve bodily stress and improve balan
 ce with Tai Chi training.  Based on the work by Paul Lam\, the practice fo
 cuses more on mindfulness and body awareness than form.  Come join us!  We
  will meet in the Pavilion.  Please wear comfortable clothing and shoes. 
 \n\nThe Tai Chi for Health waiver form is available for download below. Pl
 ease print it and bring the completed waiver with you.\n
X-WR-RELCALID:4802e946c6e425c2563e6b172da15ca8
X-WR-TIMEZONE:America/Chicago
BEGIN:VTIMEZONE
TZID:America/Chicago
BEGIN:STANDARD
TZNAME:CST
DTSTART:20161106T020000
TZOFFSETFROM:-0500
TZOFFSETTO:-0600
RDATE:20171105T020000
RDATE:20181104T020000
END:STANDARD
BEGIN:DAYLIGHT
TZNAME:CDT
DTSTART:20170312T020000
TZOFFSETFROM:-0600
TZOFFSETTO:-0500
RDATE:20180311T020000
END:DAYLIGHT
END:VTIMEZONE
BEGIN:VEVENT
UID:ef2231f9-c143-4a06-bd68-18d30072c0bc
DTSTAMP:20260421T191746Z
DESCRIPTION:Class Dates and Times:\nTuesday\, August 15 from 6:30 to 7:30 p
 .m. \n<a href='http://aldridgegardens.com/education/events/spring_event_ca
 lendar.html/event/2017/08/22/tai-chi-for-health/167115'>Tuesday\, August 2
 2 from 6:30 to 7:30 p.m.</a>\n<a href='http://aldridgegardens.com/educatio
 n/events/spring_event_calendar.html/event/2017/08/29/tai-chi-for-health/16
 7116'>Tuesday\, August 29 from 8:00 to 9:00 a.m. (morning class)</a>\n\nTh
 is FREE class is being offered by Many Infinities partnering with AlaQuest
  Wellness\, for people seeking to relieve bodily stress and improve balanc
 e with Tai Chi training.  Based on the work by Paul Lam\, the practice foc
 uses more on mindfulness and body awareness than form.  Come join us!  We 
 will meet in the Pavilion.  Please wear comfortable clothing and shoes. \n
 \nThe Tai Chi for Health waiver form is available for download below. Plea
 se print it and bring the completed waiver with you.\n
DTSTART;TZID=America/Chicago:20170815T183000
DTEND;TZID=America/Chicago:20170815T193000
LOCATION:Aldridge Gardens Pavilion
SUMMARY:Tai Chi for Health
END:VEVENT
END:VCALENDAR
