BEGIN:VCALENDAR
VERSION:2.0
PRODID:-//aldridgegardens.com//NONSGML kigkonsult.se iCalcreator 2.30.10//
CALSCALE:GREGORIAN
METHOD:PUBLISH
UID:b046a1dd-0970-4da0-b4db-1b6c2c914385
X-WR-CALDESC:Class Dates and Times:\nTuesday\, August 22 from 6:30 to 7:30 
 p.m. \n<a href='http://aldridgegardens.com/education/events/spring_event_c
 alendar.html/event/2017/08/29/tai-chi-for-health/167116'>Tuesday\, August 
 29 from 8:00 to 9:00 a.m. (morning class)</a>\n\nThis FREE class is being 
 offered by Many Infinities partnering with AlaQuest Wellness\, for people 
 seeking to relieve bodily stress and improve balance with Tai Chi training
 .  Based on the work by Paul Lam\, the practice focuses more on mindfulnes
 s and body awareness than form.  Come join us!  We will meet in the Pavili
 on.  Please wear comfortable clothing and shoes. \n\nThe Tai Chi for Healt
 h waiver form is available for download below. Please print it and bring t
 he completed waiver with you.\n
X-WR-RELCALID:278c789a0f86f4902d97977f7800e891
X-WR-TIMEZONE:America/Chicago
BEGIN:VTIMEZONE
TZID:America/Chicago
BEGIN:STANDARD
TZNAME:CST
DTSTART:20161106T020000
TZOFFSETFROM:-0500
TZOFFSETTO:-0600
RDATE:20171105T020000
RDATE:20181104T020000
END:STANDARD
BEGIN:DAYLIGHT
TZNAME:CDT
DTSTART:20170312T020000
TZOFFSETFROM:-0600
TZOFFSETTO:-0500
RDATE:20180311T020000
END:DAYLIGHT
END:VTIMEZONE
BEGIN:VEVENT
UID:c4337016-7482-4e6d-bbc3-6ba119905abe
DTSTAMP:20260421T191757Z
DESCRIPTION:Class Dates and Times:\nTuesday\, August 22 from 6:30 to 7:30 p
 .m. \n<a href='http://aldridgegardens.com/education/events/spring_event_ca
 lendar.html/event/2017/08/29/tai-chi-for-health/167116'>Tuesday\, August 2
 9 from 8:00 to 9:00 a.m. (morning class)</a>\n\nThis FREE class is being o
 ffered by Many Infinities partnering with AlaQuest Wellness\, for people s
 eeking to relieve bodily stress and improve balance with Tai Chi training.
   Based on the work by Paul Lam\, the practice focuses more on mindfulness
  and body awareness than form.  Come join us!  We will meet in the Pavilio
 n.  Please wear comfortable clothing and shoes. \n\nThe Tai Chi for Health
  waiver form is available for download below. Please print it and bring th
 e completed waiver with you.\n
DTSTART;TZID=America/Chicago:20170822T183000
DTEND;TZID=America/Chicago:20170822T193000
LOCATION:Aldridge Gardens Pavilion
SUMMARY:Tai Chi for Health
END:VEVENT
END:VCALENDAR
