BEGIN:VCALENDAR
VERSION:2.0
PRODID:-//aldridgegardens.com//NONSGML kigkonsult.se iCalcreator 2.30.10//
CALSCALE:GREGORIAN
METHOD:PUBLISH
UID:376bfd21-60f1-4752-8685-78ce0815168d
X-WR-CALDESC:TOPIC:  Birmingham Gardening Today\nSPEAKER:  Dr. John Floyd 
 \n \nJohn Floyd graduated from Auburn University and earned from Clemson U
 niversity a Master’s in Horticulture with a minor in Plant Taxonomy and a 
 PhD in Plant Physiology with a double minor in Horticulture and Botany. Af
 ter university\, John taught Horticulture at Jefferson State Junior Colleg
 e and ran a landscape design business. He joined Southern Living as Senior
  Horticulturist and was later named Vice President and Editor-In-Chief of 
 Southern Living for 18 years. For years John has volunteered weekly along 
 with Mike Rushing and Bob Wendorf (“the three doctors”) to maintain the Ja
 panese Garden at the Birmingham Botanical Gardens.\n \nJohn has developed 
 a web site for gardeners called Birmingham Gardening Today (www.birmingham
 gardeningtoday.com). It provides truly local gardening advice for both beg
 inner and experienced gardeners. “Good gardening information is very local
 \,” says John. Like our gardens\, the site changes with the seasons. The w
 eb site explains what gardening tasks to do now\, what is currently in blo
 om\, and offers readers advice from John on their gardening questions.\n\n
 ALABAMA HYDRANGEA SOCIETY\nInterested in learning more about Hydrangeas an
 d other related gardening topics? We invite you to visit and join the Alab
 ama Hydrangea Society. Meetings take place five times a year at Aldridge G
 ardens (3530 Lorna Road\, Hoover) at 1:00 p.m. on the 4th Wednesday of the
 se months: January\, March\, June\, August\, and October. Membership is $1
 5 per year for an individual or $25 per couple. Visitors are always welcom
 e to attend.\n\nAldridge Gardens is the perfect setting to inspire one’s l
 earning more about the various types of Hydrangeas.\n
X-WR-RELCALID:34a48ad994f24c4fc4f8b5285f9a5dce
X-WR-TIMEZONE:America/Chicago
BEGIN:VTIMEZONE
TZID:America/Chicago
BEGIN:STANDARD
TZNAME:CST
DTSTART:20161106T020000
TZOFFSETFROM:-0500
TZOFFSETTO:-0600
RDATE:20171105T020000
RDATE:20181104T020000
END:STANDARD
BEGIN:DAYLIGHT
TZNAME:CDT
DTSTART:20170312T020000
TZOFFSETFROM:-0600
TZOFFSETTO:-0500
RDATE:20180311T020000
END:DAYLIGHT
END:VTIMEZONE
BEGIN:VEVENT
UID:f4a4092e-414d-4c0e-9f82-a9406c1cd6bd
DTSTAMP:20260421T191740Z
DESCRIPTION:TOPIC:  Birmingham Gardening Today\nSPEAKER:  Dr. John Floyd \n
  \nJohn Floyd graduated from Auburn University and earned from Clemson Uni
 versity a Master’s in Horticulture with a minor in Plant Taxonomy and a Ph
 D in Plant Physiology with a double minor in Horticulture and Botany. Afte
 r university\, John taught Horticulture at Jefferson State Junior College 
 and ran a landscape design business. He joined Southern Living as Senior H
 orticulturist and was later named Vice President and Editor-In-Chief of So
 uthern Living for 18 years. For years John has volunteered weekly along wi
 th Mike Rushing and Bob Wendorf (“the three doctors”) to maintain the Japa
 nese Garden at the Birmingham Botanical Gardens.\n \nJohn has developed a 
 web site for gardeners called Birmingham Gardening Today (www.birminghamga
 rdeningtoday.com). It provides truly local gardening advice for both begin
 ner and experienced gardeners. “Good gardening information is very local\,
 ” says John. Like our gardens\, the site changes with the seasons. The web
  site explains what gardening tasks to do now\, what is currently in bloom
 \, and offers readers advice from John on their gardening questions.\n\nAL
 ABAMA HYDRANGEA SOCIETY\nInterested in learning more about Hydrangeas and 
 other related gardening topics? We invite you to visit and join the Alabam
 a Hydrangea Society. Meetings take place five times a year at Aldridge Gar
 dens (3530 Lorna Road\, Hoover) at 1:00 p.m. on the 4th Wednesday of these
  months: January\, March\, June\, August\, and October. Membership is $15 
 per year for an individual or $25 per couple. Visitors are always welcome 
 to attend.\n\nAldridge Gardens is the perfect setting to inspire one’s lea
 rning more about the various types of Hydrangeas.\n
DTSTART;TZID=America/Chicago:20170823T130000
DTEND;TZID=America/Chicago:20170823T140000
LOCATION:Aldridge House at the Gardens
SUMMARY:Alabama Hydrangea Society Meeting
END:VEVENT
END:VCALENDAR
