BEGIN:VCALENDAR
VERSION:2.0
PRODID:-//aldridgegardens.com//NONSGML kigkonsult.se iCalcreator 2.30.10//
CALSCALE:GREGORIAN
METHOD:PUBLISH
UID:5d7a1118-de7e-4f91-970c-498e0ff161cb
X-WR-CALDESC:Yoga in the Gardens with Star\n\n<b>Wednesday\, September 6th\
 , <a href='http://aldridgegardens.com/education/events/spring_event_calend
 ar.html/event/2017/09/13/yoga-in-the-gardens-with-star/168265'>13th</a>\, 
 and <a href='http://aldridgegardens.com/education/events/spring_event_cale
 ndar.html/event/2017/09/27/yoga-in-the-gardens-with-star/168266'>27th</a> 
 from 9 to 10 a.m.</b>\nWeather permitting. Check for class updates and can
 cellations on the Southern Star Wellness Facebook page. (See related links
  at the bottom of this page.)\n\nHave you always wanted to try a yoga clas
 s?  Well now's your chance. Take this class with certified Hatha Yoga inst
 ructor\, Star Rosser. Her teaching style is gentle\, slow\, and geared tow
 ards the 40+ age group -- but also suitable for anyone who wants a slower 
 paced yoga class with lots of instruction. Her classes promote positive bo
 dy image and are filled with self-care\, love\, and a little laughter. Pla
 n to wear clothes that are comfortable to move in. Register below and come
  explore yoga with Star.\n\n<b>Star Rosser\, Certified Yoga Instructor</b>
 \n$10 per class \nBring a mat\, towel\, and water.\n
X-WR-RELCALID:f8a8563908a17ed765ce32bdc7aa1957
X-WR-TIMEZONE:America/Chicago
BEGIN:VTIMEZONE
TZID:America/Chicago
BEGIN:STANDARD
TZNAME:CST
DTSTART:20161106T020000
TZOFFSETFROM:-0500
TZOFFSETTO:-0600
RDATE:20171105T020000
RDATE:20181104T020000
END:STANDARD
BEGIN:DAYLIGHT
TZNAME:CDT
DTSTART:20170312T020000
TZOFFSETFROM:-0600
TZOFFSETTO:-0500
RDATE:20180311T020000
END:DAYLIGHT
END:VTIMEZONE
BEGIN:VEVENT
UID:546b4558-81b7-411a-8efd-b6236e419595
DTSTAMP:20260421T175132Z
DESCRIPTION:Yoga in the Gardens with Star\n\n<b>Wednesday\, September 6th\,
  <a href='http://aldridgegardens.com/education/events/spring_event_calenda
 r.html/event/2017/09/13/yoga-in-the-gardens-with-star/168265'>13th</a>\, a
 nd <a href='http://aldridgegardens.com/education/events/spring_event_calen
 dar.html/event/2017/09/27/yoga-in-the-gardens-with-star/168266'>27th</a> f
 rom 9 to 10 a.m.</b>\nWeather permitting. Check for class updates and canc
 ellations on the Southern Star Wellness Facebook page. (See related links 
 at the bottom of this page.)\n\nHave you always wanted to try a yoga class
 ?  Well now's your chance. Take this class with certified Hatha Yoga instr
 uctor\, Star Rosser. Her teaching style is gentle\, slow\, and geared towa
 rds the 40+ age group -- but also suitable for anyone who wants a slower p
 aced yoga class with lots of instruction. Her classes promote positive bod
 y image and are filled with self-care\, love\, and a little laughter. Plan
  to wear clothes that are comfortable to move in. Register below and come 
 explore yoga with Star.\n\n<b>Star Rosser\, Certified Yoga Instructor</b>
 \n$10 per class \nBring a mat\, towel\, and water.\n
DTSTART;TZID=America/Chicago:20170906T090000
DTEND;TZID=America/Chicago:20170906T100000
LOCATION:The patio near Roots Garden and Gift Shop
SUMMARY:Yoga in the Gardens with Star
END:VEVENT
END:VCALENDAR
