BEGIN:VCALENDAR
VERSION:2.0
PRODID:-//aldridgegardens.com//NONSGML kigkonsult.se iCalcreator 2.30.10//
CALSCALE:GREGORIAN
METHOD:PUBLISH
UID:e7993bac-a08f-4e17-a5c2-a3459c7bcda0
X-WR-CALDESC:Yoga in the Gardens with Star\n\n<b>Wednesday\, September 13th
  and <a href='http://aldridgegardens.com/education/events/spring_event_cal
 endar.html/event/2017/09/27/yoga-in-the-gardens-with-star/168266'>27th</a>
  from 9 to 10 a.m.</b>\nWeather permitting. Check for class updates and ca
 ncellations on the Southern Star Wellness Facebook page. (See related link
 s at the bottom of this page.)\n\nHave you always wanted to try a yoga cla
 ss?  Well now's your chance. Take this class with certified Hatha Yoga ins
 tructor\, Star Rosser. Her teaching style is gentle\, slow\, and geared to
 wards the 40+ age group -- but also suitable for anyone who wants a slower
  paced yoga class with lots of instruction. Her classes promote positive b
 ody image and are filled with self-care\, love\, and a little laughter. Pl
 an to wear clothes that are comfortable to move in. Register below and com
 e explore yoga with Star.\n\n<b>Star Rosser\, Certified Yoga Instructor</b
 >\n$10 per class \nBring a mat\, towel\, and water.\n
X-WR-RELCALID:1d5b2bd6e4b25ffccf657e152a88ed47
X-WR-TIMEZONE:America/Chicago
BEGIN:VTIMEZONE
TZID:America/Chicago
BEGIN:STANDARD
TZNAME:CST
DTSTART:20161106T020000
TZOFFSETFROM:-0500
TZOFFSETTO:-0600
RDATE:20171105T020000
RDATE:20181104T020000
END:STANDARD
BEGIN:DAYLIGHT
TZNAME:CDT
DTSTART:20170312T020000
TZOFFSETFROM:-0600
TZOFFSETTO:-0500
RDATE:20180311T020000
RDATE:20190310T020000
END:DAYLIGHT
END:VTIMEZONE
BEGIN:VEVENT
UID:cdb65ad6-b7b0-49f4-b75d-84f6190815d0
DTSTAMP:20260421T175250Z
DESCRIPTION:Yoga in the Gardens with Star\n\n<b>Wednesday\, September 13th 
 and <a href='http://aldridgegardens.com/education/events/spring_event_cale
 ndar.html/event/2017/09/27/yoga-in-the-gardens-with-star/168266'>27th</a> 
 from 9 to 10 a.m.</b>\nWeather permitting. Check for class updates and can
 cellations on the Southern Star Wellness Facebook page. (See related links
  at the bottom of this page.)\n\nHave you always wanted to try a yoga clas
 s?  Well now's your chance. Take this class with certified Hatha Yoga inst
 ructor\, Star Rosser. Her teaching style is gentle\, slow\, and geared tow
 ards the 40+ age group -- but also suitable for anyone who wants a slower 
 paced yoga class with lots of instruction. Her classes promote positive bo
 dy image and are filled with self-care\, love\, and a little laughter. Pla
 n to wear clothes that are comfortable to move in. Register below and come
  explore yoga with Star.\n\n<b>Star Rosser\, Certified Yoga Instructor</b>
 \n$10 per class \nBring a mat\, towel\, and water.\n
DTSTART;TZID=America/Chicago:20170913T090000
DTEND;TZID=America/Chicago:20170913T100000
LOCATION:The patio near Roots Garden and Gift Shop
SUMMARY:Yoga in the Gardens with Star
END:VEVENT
END:VCALENDAR
