BEGIN:VCALENDAR
VERSION:2.0
PRODID:-//aldridgegardens.com//NONSGML kigkonsult.se iCalcreator 2.30.10//
CALSCALE:GREGORIAN
METHOD:PUBLISH
UID:b803e422-2412-4c5e-bf35-e2812056b852
X-WR-CALDESC:<b>THIS EVENT HAS BEEN CANCELLED.</b>\n\nJoin us on Tuesday\, 
 September 19th\, from 6 to 8 p.m. for our Gluten Free Baking Bonanza. Caro
 l Key\, the proprietor of Bunch Bake Shop (4647 B Hwy 280)\, will share gl
 uten-free baking recipes\, stories\, and techniques with us.  \n\nParticip
 ants are welcome to bring a bottle of wine to enjoy while they experience 
 gluten-free taste tests of items like cheese bits\, s'mores\, bread puddin
 g\, etc. Carol will also have some of her baked goods for sale\, as well.
 \n\n$30 for members\, $35 for nonmembers.  \n\nSpace is limited to 25 part
 icipants\, so sign up soon!\n\n<b>THIS EVENT HAS BEEN CANCELLED.</b>
X-WR-RELCALID:a92e8d0931f3291ab20521551f7acfaf
X-WR-TIMEZONE:America/Chicago
BEGIN:VTIMEZONE
TZID:America/Chicago
BEGIN:STANDARD
TZNAME:CST
DTSTART:20161106T020000
TZOFFSETFROM:-0500
TZOFFSETTO:-0600
RDATE:20171105T020000
RDATE:20181104T020000
END:STANDARD
BEGIN:DAYLIGHT
TZNAME:CDT
DTSTART:20170312T020000
TZOFFSETFROM:-0600
TZOFFSETTO:-0500
RDATE:20180311T020000
RDATE:20190310T020000
END:DAYLIGHT
END:VTIMEZONE
BEGIN:VEVENT
UID:5a7a11c7-2c7c-4ce3-b129-40b1000bb381
DTSTAMP:20260421T174754Z
DESCRIPTION:<b>THIS EVENT HAS BEEN CANCELLED.</b>\n\nJoin us on Tuesday\, S
 eptember 19th\, from 6 to 8 p.m. for our Gluten Free Baking Bonanza. Carol
  Key\, the proprietor of Bunch Bake Shop (4647 B Hwy 280)\, will share glu
 ten-free baking recipes\, stories\, and techniques with us.  \n\nParticipa
 nts are welcome to bring a bottle of wine to enjoy while they experience g
 luten-free taste tests of items like cheese bits\, s'mores\, bread pudding
 \, etc. Carol will also have some of her baked goods for sale\, as well.\n
 \n$30 for members\, $35 for nonmembers.  \n\nSpace is limited to 25 partic
 ipants\, so sign up soon!\n\n<b>THIS EVENT HAS BEEN CANCELLED.</b>
DTSTART;TZID=America/Chicago:20170919T180000
DTEND;TZID=America/Chicago:20170919T200000
LOCATION:Aldridge Gardens House
SUMMARY:Gluten Free Baking Bonanza
END:VEVENT
END:VCALENDAR
