BEGIN:VCALENDAR
VERSION:2.0
PRODID:-//aldridgegardens.com//NONSGML kigkonsult.se iCalcreator 2.30.10//
CALSCALE:GREGORIAN
METHOD:PUBLISH
UID:4205e276-d15d-4c35-a918-f46c40891cff
X-WR-CALDESC:Yoga in the Gardens with Star\n\n<b>Wednesday\, September 27th
  from 9 to 10 a.m.</b>\nWeather permitting. Check for class updates and ca
 ncellations on the Southern Star Wellness Facebook page. (See related link
 s at the bottom of this page.)\n\nHave you always wanted to try a yoga cla
 ss?  Well now's your chance. Take this class with certified Hatha Yoga ins
 tructor\, Star Rosser. Her teaching style is gentle\, slow\, and geared to
 wards the 40+ age group -- but also suitable for anyone who wants a slower
  paced yoga class with lots of instruction. Her classes promote positive b
 ody image and are filled with self-care\, love\, and a little laughter. Pl
 an to wear clothes that are comfortable to move in. Register below and com
 e explore yoga with Star.\n\n<b>Star Rosser\, Certified Yoga Instructor</b
 >\n$10 per class \nBring a mat\, towel\, and water.\n
X-WR-RELCALID:9bf83bf6877c2dd2e07f167448573c64
X-WR-TIMEZONE:America/Chicago
BEGIN:VTIMEZONE
TZID:America/Chicago
BEGIN:STANDARD
TZNAME:CST
DTSTART:20161106T020000
TZOFFSETFROM:-0500
TZOFFSETTO:-0600
RDATE:20171105T020000
RDATE:20181104T020000
END:STANDARD
BEGIN:DAYLIGHT
TZNAME:CDT
DTSTART:20170312T020000
TZOFFSETFROM:-0600
TZOFFSETTO:-0500
RDATE:20180311T020000
RDATE:20190310T020000
END:DAYLIGHT
END:VTIMEZONE
BEGIN:VEVENT
UID:5e17698e-9c9c-477e-b42c-2b8e13993aa2
DTSTAMP:20260421T175311Z
DESCRIPTION:Yoga in the Gardens with Star\n\n<b>Wednesday\, September 27th 
 from 9 to 10 a.m.</b>\nWeather permitting. Check for class updates and can
 cellations on the Southern Star Wellness Facebook page. (See related links
  at the bottom of this page.)\n\nHave you always wanted to try a yoga clas
 s?  Well now's your chance. Take this class with certified Hatha Yoga inst
 ructor\, Star Rosser. Her teaching style is gentle\, slow\, and geared tow
 ards the 40+ age group -- but also suitable for anyone who wants a slower 
 paced yoga class with lots of instruction. Her classes promote positive bo
 dy image and are filled with self-care\, love\, and a little laughter. Pla
 n to wear clothes that are comfortable to move in. Register below and come
  explore yoga with Star.\n\n<b>Star Rosser\, Certified Yoga Instructor</b>
 \n$10 per class \nBring a mat\, towel\, and water.\n
DTSTART;TZID=America/Chicago:20170927T090000
DTEND;TZID=America/Chicago:20170927T100000
LOCATION:The patio near Roots Garden and Gift Shop
SUMMARY:Yoga in the Gardens with Star
END:VEVENT
END:VCALENDAR
