BEGIN:VCALENDAR
VERSION:2.0
PRODID:-//aldridgegardens.com//NONSGML kigkonsult.se iCalcreator 2.30.10//
CALSCALE:GREGORIAN
METHOD:PUBLISH
UID:a380c6e9-7868-4550-ae76-8feaf71eec89
X-WR-CALDESC:<b>THIS EVENT IS SOLD OUT. NO ADDITIONAL TICKETS ARE AVAILABLE
 .</b>\n\nTaste of Hoover celebrates the variety of culinary styles found t
 hroughout the city. \n \nEnjoy an autumn evening with us strolling through
  the Gardens and sampling delicious dishes from some of Hoover's best rest
 aurants\, caterers\, and more. Taste international wines and local beers w
 hile listening to live entertainment by Jackson Ulmer. \n\nTickets are $40
  members/$45 non-members. \nOnly a limited number of tickets will be avail
 able. This event has sold out in the past. \n\nPlease note\, there are no 
 physical paper tickets. Upon registration\, your name(s) will be added to 
 our 'will call' list and you will simply need to check in when arriving at
  the event. \n\n<i>Please note this is a special event and we will not off
 er free admission to the Gardens during Taste of Hoover.</i> \n\nHere's a 
 list of area restaurants and Aldridge Gardens' preferred vendors who will 
 be serving tasty samples from their menus. (Updated 9-25-17) Look for more
  to be added soon:\n\n<b>Restaurants</b>\nNothing Bundt Cakes\nThe Whole S
 coop Ice Cream\nThe Boot\nEmily's Heirloom Pound cakes\nGalleria Woods Ret
 irement\nJakes Soul Food Café\nThe Cajun Cleaver\nBunch Bakeshop\nFried Gr
 een Tomatoes\nSwamp Monster BBQ\nMerk’s Tavern and Kitchen at the Hyatt Re
 gency Wynfrey Hotel\nMetro Diner\nJim N Nicks\nTazikis \nSpoon and Ladle\n
 Newks Eatery\nZoes Kitchen\nDales Southern Grill \nCajun Steamer \nCustoms
  Café\nRock N Roll Sushi\nWaitr\nHeat N Eat Healthy\nSprouts Farmers Marke
 t\nJimmy John's\n\n<b>Caterers</b>\nGourmet Pantry Catering\nHappy Caterin
 g\nSavoie Catering\nFive Star Catering\nKathy G Catering Co.\n\n<b>More</b
 >\nJefferson State Culinary\nInternational Wines\nBack Forty Beer\nCoca Co
 la\nRoyal Cup\nThe Greek Kouzina\n\n<b>Entertainment</b>\nJackson Ulmer\n
 \nInterested vendors\, please contact Amanda Callahan at 205.919.5859 or a
 manda@goproeventsolutions.com. Our <b>vendor application form</b> is avail
 able for download under 'related links' at the bottom of this page. \n\nTa
 ste of Hoover is sponsored by the <i>Hoover Sun</i>. \n\n<b>THIS EVENT IS 
 SOLD OUT. NO ADDITIONAL TICKETS ARE AVAILABLE.</b>
X-WR-RELCALID:be5afecb9cffe125a393382258ee9f38
X-WR-TIMEZONE:America/Chicago
BEGIN:VTIMEZONE
TZID:America/Chicago
BEGIN:STANDARD
TZNAME:CST
DTSTART:20161106T020000
TZOFFSETFROM:-0500
TZOFFSETTO:-0600
RDATE:20171105T020000
RDATE:20181104T020000
END:STANDARD
BEGIN:DAYLIGHT
TZNAME:CDT
DTSTART:20170312T020000
TZOFFSETFROM:-0600
TZOFFSETTO:-0500
RDATE:20180311T020000
RDATE:20190310T020000
END:DAYLIGHT
END:VTIMEZONE
BEGIN:VEVENT
UID:0d13cb75-7aec-4421-85d1-2e70e34b17fe
DTSTAMP:20260421T160540Z
DESCRIPTION:<b>THIS EVENT IS SOLD OUT. NO ADDITIONAL TICKETS ARE AVAILABLE.
 </b>\n\nTaste of Hoover celebrates the variety of culinary styles found th
 roughout the city. \n \nEnjoy an autumn evening with us strolling through 
 the Gardens and sampling delicious dishes from some of Hoover's best resta
 urants\, caterers\, and more. Taste international wines and local beers wh
 ile listening to live entertainment by Jackson Ulmer. \n\nTickets are $40 
 members/$45 non-members. \nOnly a limited number of tickets will be availa
 ble. This event has sold out in the past. \n\nPlease note\, there are no p
 hysical paper tickets. Upon registration\, your name(s) will be added to o
 ur 'will call' list and you will simply need to check in when arriving at 
 the event. \n\n<i>Please note this is a special event and we will not offe
 r free admission to the Gardens during Taste of Hoover.</i> \n\nHere's a l
 ist of area restaurants and Aldridge Gardens' preferred vendors who will b
 e serving tasty samples from their menus. (Updated 9-25-17) Look for more 
 to be added soon:\n\n<b>Restaurants</b>\nNothing Bundt Cakes\nThe Whole Sc
 oop Ice Cream\nThe Boot\nEmily's Heirloom Pound cakes\nGalleria Woods Reti
 rement\nJakes Soul Food Café\nThe Cajun Cleaver\nBunch Bakeshop\nFried Gre
 en Tomatoes\nSwamp Monster BBQ\nMerk’s Tavern and Kitchen at the Hyatt Reg
 ency Wynfrey Hotel\nMetro Diner\nJim N Nicks\nTazikis \nSpoon and Ladle\nN
 ewks Eatery\nZoes Kitchen\nDales Southern Grill \nCajun Steamer \nCustoms 
 Café\nRock N Roll Sushi\nWaitr\nHeat N Eat Healthy\nSprouts Farmers Market
 \nJimmy John's\n\n<b>Caterers</b>\nGourmet Pantry Catering\nHappy Catering
 \nSavoie Catering\nFive Star Catering\nKathy G Catering Co.\n\n<b>More</b>
 \nJefferson State Culinary\nInternational Wines\nBack Forty Beer\nCoca Col
 a\nRoyal Cup\nThe Greek Kouzina\n\n<b>Entertainment</b>\nJackson Ulmer\n\n
 Interested vendors\, please contact Amanda Callahan at 205.919.5859 or ama
 nda@goproeventsolutions.com. Our <b>vendor application form</b> is availab
 le for download under 'related links' at the bottom of this page. \n\nTast
 e of Hoover is sponsored by the <i>Hoover Sun</i>. \n\n<b>THIS EVENT IS SO
 LD OUT. NO ADDITIONAL TICKETS ARE AVAILABLE.</b>
DTSTART;TZID=America/Chicago:20171012T170000
DTEND;TZID=America/Chicago:20171012T200000
LOCATION:
SUMMARY:Taste of Hoover
END:VEVENT
END:VCALENDAR
