BEGIN:VCALENDAR
VERSION:2.0
PRODID:-//aldridgegardens.com//NONSGML kigkonsult.se iCalcreator 2.30.10//
CALSCALE:GREGORIAN
METHOD:PUBLISH
UID:ae0e2c8f-2ddf-4dad-9e28-96e15df4fc46
X-WR-CALDESC:This FREE class is being offered by Many Infinities partnering
  with AlaQuest Wellness\, for people seeking to relieve bodily stress and 
 improve balance with Tai Chi training.  Based on the work by Paul Lam\, th
 e practice focuses more on mindfulness and body awareness than form.  Come
  join us!  We will meet in the Pavilion.  Please wear comfortable clothing
  and shoes. \n\nThe Tai Chi for Health waiver form is available for downlo
 ad below. Please print it and bring the completed waiver with you.\n\n
X-WR-RELCALID:732026c00968e899e9002ad3120aaff4
X-WR-TIMEZONE:America/Chicago
BEGIN:VTIMEZONE
TZID:America/Chicago
BEGIN:STANDARD
TZNAME:CST
DTSTART:20161106T020000
TZOFFSETFROM:-0500
TZOFFSETTO:-0600
RDATE:20171105T020000
RDATE:20181104T020000
END:STANDARD
BEGIN:DAYLIGHT
TZNAME:CDT
DTSTART:20170312T020000
TZOFFSETFROM:-0600
TZOFFSETTO:-0500
RDATE:20180311T020000
RDATE:20190310T020000
END:DAYLIGHT
END:VTIMEZONE
BEGIN:VEVENT
UID:ab55acf0-0949-4eff-a718-c0877c95e8ad
DTSTAMP:20260421T160422Z
DESCRIPTION:This FREE class is being offered by Many Infinities partnering 
 with AlaQuest Wellness\, for people seeking to relieve bodily stress and i
 mprove balance with Tai Chi training.  Based on the work by Paul Lam\, the
  practice focuses more on mindfulness and body awareness than form.  Come 
 join us!  We will meet in the Pavilion.  Please wear comfortable clothing 
 and shoes. \n\nThe Tai Chi for Health waiver form is available for downloa
 d below. Please print it and bring the completed waiver with you.\n\n
DTSTART;TZID=America/Chicago:20171017T090000
DTEND;TZID=America/Chicago:20171017T100000
LOCATION:Aldridge Gardens Pavilion
SUMMARY:Tai Chi for Health
END:VEVENT
END:VCALENDAR
