BEGIN:VCALENDAR
VERSION:2.0
PRODID:-//aldridgegardens.com//NONSGML kigkonsult.se iCalcreator 2.30.10//
CALSCALE:GREGORIAN
METHOD:PUBLISH
UID:12e40611-6034-4ad5-bf49-1f5507120925
X-WR-CALDESC:Yoga in the Gardens with Star\n\n<b>Wednesday\, October 18th f
 rom 9 to 10 a.m.</b>\nWeather permitting. Check for class updates and canc
 ellations on the Southern Star Wellness Facebook page. (See related links 
 at the bottom of this page.)\n\nHave you always wanted to try a yoga class
 ?  Well now's your chance. Take this class with certified Hatha Yoga instr
 uctor\, Star Rosser. Her teaching style is gentle\, slow\, and geared towa
 rds the 40+ age group -- but also suitable for anyone who wants a slower p
 aced yoga class with lots of instruction. Her classes promote positive bod
 y image and are filled with self-care\, love\, and a little laughter. Plan
  to wear clothes that are comfortable to move in. Register below and come 
 explore yoga with Star.\n\n<b>Star Rosser\, Certified Yoga Instructor</b>
 \n$10 per class \nBring a mat\, towel\, and water.\n
X-WR-RELCALID:892fbbc2f1fb0f25b321e67a0c24e363
X-WR-TIMEZONE:America/Chicago
BEGIN:VTIMEZONE
TZID:America/Chicago
BEGIN:STANDARD
TZNAME:CST
DTSTART:20161106T020000
TZOFFSETFROM:-0500
TZOFFSETTO:-0600
RDATE:20171105T020000
RDATE:20181104T020000
END:STANDARD
BEGIN:DAYLIGHT
TZNAME:CDT
DTSTART:20170312T020000
TZOFFSETFROM:-0600
TZOFFSETTO:-0500
RDATE:20180311T020000
RDATE:20190310T020000
END:DAYLIGHT
END:VTIMEZONE
BEGIN:VEVENT
UID:e08679ae-35ed-4d2b-8505-d8e4d418e4d6
DTSTAMP:20260421T161150Z
DESCRIPTION:Yoga in the Gardens with Star\n\n<b>Wednesday\, October 18th fr
 om 9 to 10 a.m.</b>\nWeather permitting. Check for class updates and cance
 llations on the Southern Star Wellness Facebook page. (See related links a
 t the bottom of this page.)\n\nHave you always wanted to try a yoga class?
   Well now's your chance. Take this class with certified Hatha Yoga instru
 ctor\, Star Rosser. Her teaching style is gentle\, slow\, and geared towar
 ds the 40+ age group -- but also suitable for anyone who wants a slower pa
 ced yoga class with lots of instruction. Her classes promote positive body
  image and are filled with self-care\, love\, and a little laughter. Plan 
 to wear clothes that are comfortable to move in. Register below and come e
 xplore yoga with Star.\n\n<b>Star Rosser\, Certified Yoga Instructor</b>\n
 $10 per class \nBring a mat\, towel\, and water.\n
DTSTART;TZID=America/Chicago:20171018T090000
DTEND;TZID=America/Chicago:20171018T100000
LOCATION:The patio near Roots Garden and Gift Shop
SUMMARY:Yoga in the Gardens with Star
END:VEVENT
END:VCALENDAR
