BEGIN:VCALENDAR
VERSION:2.0
PRODID:-//aldridgegardens.com//NONSGML kigkonsult.se iCalcreator 2.30.10//
CALSCALE:GREGORIAN
METHOD:PUBLISH
UID:126314b9-fc07-4543-bedb-e6a1e9c630c2
X-WR-CALDESC:Just in time for Halloween! Learn about the fascinating world 
 of spiders with Dr. Drew Hataway from the Biology Department at Samford Un
 iversity. \n\nDr. Hataway will discuss his experiences with spiders\, both
  in the wild and in the laboratory. He'll even bring some interesting arac
 hnids for us to view up close. Learn how to distinguish venomous from non-
 venomous spiders. Plus\, bring your flashlights for a fun-filled field tri
 p after class in search of harmless wolf spiders on the grounds of Aldridg
 e Gardens. \n\nEnjoy a 'spiderific' evening in a great family-oriented sem
 inar for young and old alike -- but not for the faint of heart.\n\nThis ev
 ent is free for children 12 and under\, $10 for Gardens members\, and $15 
 for all nonmembers over 12.\n
X-WR-RELCALID:51d906b25c3f9836aa187a32a24c63a7
X-WR-TIMEZONE:America/Chicago
BEGIN:VTIMEZONE
TZID:America/Chicago
BEGIN:STANDARD
TZNAME:CST
DTSTART:20161106T020000
TZOFFSETFROM:-0500
TZOFFSETTO:-0600
RDATE:20171105T020000
RDATE:20181104T020000
END:STANDARD
BEGIN:DAYLIGHT
TZNAME:CDT
DTSTART:20170312T020000
TZOFFSETFROM:-0600
TZOFFSETTO:-0500
RDATE:20180311T020000
RDATE:20190310T020000
END:DAYLIGHT
END:VTIMEZONE
BEGIN:VEVENT
UID:b9d3b72e-47dd-45f0-9c6c-1b849078ff72
DTSTAMP:20260421T161016Z
DESCRIPTION:Just in time for Halloween! Learn about the fascinating world o
 f spiders with Dr. Drew Hataway from the Biology Department at Samford Uni
 versity. \n\nDr. Hataway will discuss his experiences with spiders\, both 
 in the wild and in the laboratory. He'll even bring some interesting arach
 nids for us to view up close. Learn how to distinguish venomous from non-v
 enomous spiders. Plus\, bring your flashlights for a fun-filled field trip
  after class in search of harmless wolf spiders on the grounds of Aldridge
  Gardens. \n\nEnjoy a 'spiderific' evening in a great family-oriented semi
 nar for young and old alike -- but not for the faint of heart.\n\nThis eve
 nt is free for children 12 and under\, $10 for Gardens members\, and $15 f
 or all nonmembers over 12.\n
DTSTART;TZID=America/Chicago:20171024T180000
DTEND;TZID=America/Chicago:20171024T200000
LOCATION:
SUMMARY:Creepy Crawly Spiders of Alabama
END:VEVENT
END:VCALENDAR
