BEGIN:VCALENDAR
VERSION:2.0
PRODID:-//aldridgegardens.com//NONSGML kigkonsult.se iCalcreator 2.30.10//
CALSCALE:GREGORIAN
METHOD:PUBLISH
UID:41d60518-1447-48f0-9875-504e400c2d3f
X-WR-CALDESC:Yoga in the Gardens with Star\n\n<b>Wednesday\, October 25th f
 rom 9 to 10 a.m.</b>\nWeather permitting. Check for class updates and canc
 ellations on the Southern Star Wellness Facebook page. (See related links 
 at the bottom of this page.)\n\nHave you always wanted to try a yoga class
 ?  Well now's your chance. Take this class with certified Hatha Yoga instr
 uctor\, Star Rosser. Her teaching style is gentle\, slow\, and geared towa
 rds the 40+ age group -- but also suitable for anyone who wants a slower p
 aced yoga class with lots of instruction. Her classes promote positive bod
 y image and are filled with self-care\, love\, and a little laughter. Plan
  to wear clothes that are comfortable to move in. Register below and come 
 explore yoga with Star.\n\n<b>Star Rosser\, Certified Yoga Instructor</b>
 \n$10 per class \nBring a mat\, towel\, and water.\n
X-WR-RELCALID:bee27ed6c1bc71b7c800576500c4ce0d
X-WR-TIMEZONE:America/Chicago
BEGIN:VTIMEZONE
TZID:America/Chicago
BEGIN:STANDARD
TZNAME:CST
DTSTART:20161106T020000
TZOFFSETFROM:-0500
TZOFFSETTO:-0600
RDATE:20171105T020000
RDATE:20181104T020000
END:STANDARD
BEGIN:DAYLIGHT
TZNAME:CDT
DTSTART:20170312T020000
TZOFFSETFROM:-0600
TZOFFSETTO:-0500
RDATE:20180311T020000
RDATE:20190310T020000
END:DAYLIGHT
END:VTIMEZONE
BEGIN:VEVENT
UID:3d017b37-9247-4d6e-98ee-2603608b2789
DTSTAMP:20260421T161009Z
DESCRIPTION:Yoga in the Gardens with Star\n\n<b>Wednesday\, October 25th fr
 om 9 to 10 a.m.</b>\nWeather permitting. Check for class updates and cance
 llations on the Southern Star Wellness Facebook page. (See related links a
 t the bottom of this page.)\n\nHave you always wanted to try a yoga class?
   Well now's your chance. Take this class with certified Hatha Yoga instru
 ctor\, Star Rosser. Her teaching style is gentle\, slow\, and geared towar
 ds the 40+ age group -- but also suitable for anyone who wants a slower pa
 ced yoga class with lots of instruction. Her classes promote positive body
  image and are filled with self-care\, love\, and a little laughter. Plan 
 to wear clothes that are comfortable to move in. Register below and come e
 xplore yoga with Star.\n\n<b>Star Rosser\, Certified Yoga Instructor</b>\n
 $10 per class \nBring a mat\, towel\, and water.\n
DTSTART;TZID=America/Chicago:20171025T090000
DTEND;TZID=America/Chicago:20171025T100000
LOCATION:The patio near Roots Garden and Gift Shop
SUMMARY:Yoga in the Gardens with Star
END:VEVENT
END:VCALENDAR
