BEGIN:VCALENDAR
VERSION:2.0
PRODID:-//aldridgegardens.com//NONSGML kigkonsult.se iCalcreator 2.30.10//
CALSCALE:GREGORIAN
METHOD:PUBLISH
UID:0eb5a2ff-9cb0-4f89-9ac0-570c1bb13a5f
X-WR-CALDESC:Monday\, November 6th from 9:30 to 10 a.m.\, Aldridge Gardens 
 will celebrate the first anniversary of our Veterans Memorial Arbor. Locat
 ed on the back of our lake\, this arbor was dedicated last year in honor o
 f Veterans Day. \n\nWe will have a small ceremony recognizing the Hoover V
 eterans Committee\, American Legion Post 911 and Krulak Detachment\, along
  with many veteran Aldridge Gardens members. A small reception will be hel
 d in the Aldridge Gardens house afterwards.
X-WR-RELCALID:160c8fdbb036aafa43fc9173a120e1d2
X-WR-TIMEZONE:America/Chicago
BEGIN:VTIMEZONE
TZID:America/Chicago
BEGIN:STANDARD
TZNAME:CST
DTSTART:20161106T020000
TZOFFSETFROM:-0500
TZOFFSETTO:-0600
RDATE:20171105T020000
RDATE:20181104T020000
END:STANDARD
BEGIN:DAYLIGHT
TZNAME:CDT
DTSTART:20170312T020000
TZOFFSETFROM:-0600
TZOFFSETTO:-0500
RDATE:20180311T020000
RDATE:20190310T020000
END:DAYLIGHT
END:VTIMEZONE
BEGIN:VEVENT
UID:68debe18-1352-40e8-b6ec-3f6e059597e4
DTSTAMP:20260421T143925Z
DESCRIPTION:Monday\, November 6th from 9:30 to 10 a.m.\, Aldridge Gardens w
 ill celebrate the first anniversary of our Veterans Memorial Arbor. Locate
 d on the back of our lake\, this arbor was dedicated last year in honor of
  Veterans Day. \n\nWe will have a small ceremony recognizing the Hoover Ve
 terans Committee\, American Legion Post 911 and Krulak Detachment\, along 
 with many veteran Aldridge Gardens members. A small reception will be held
  in the Aldridge Gardens house afterwards.
DTSTART;TZID=America/Chicago:20171106T093000
DTEND;TZID=America/Chicago:20171106T100000
LOCATION:Veterans Memorial Arbor at Aldridge Gardens
SUMMARY:Veterans Celebration
END:VEVENT
END:VCALENDAR
