BEGIN:VCALENDAR
VERSION:2.0
PRODID:-//aldridgegardens.com//NONSGML kigkonsult.se iCalcreator 2.30.10//
CALSCALE:GREGORIAN
METHOD:PUBLISH
UID:52603f1a-9c51-4020-b581-3b8fec02f11c
X-WR-CALDESC:<b>Sorry\, but this event is SOLD OUT! Plan to get your ticket
 s early next year. </b>\n\nAldridge Gardens proudly presents: Beth White\,
  Floral Designer Extraordinaire!\n\nShe will lead you into the delightful 
 realm of creating beautiful Wreaths with greenery provided\, then how to p
 ut together gorgeous Bows and\, to top it all off\, creating a DOODAH! Tha
 t is what she calls “The Perfect Professional Trim.”\n\nAfter you have abs
 orbed and practiced this creativity\, you can come back to the Gardens on 
 December 2 for more materials from the Greenery Sale\, now that you see ho
 w LOVELY you can decorate your space. \n\nThere will be handouts\, ideas g
 alore\, and you take home what you make! That's Tuesday\, November 28\, fr
 om 9:30 to 11:30 a.m. Don't miss it! \n\nThe cost is $15 for Aldridge Gard
 ens members and $20 for non-members.  \n\n<b>Sorry\, but this event is SOL
 D OUT! Plan to get your tickets early next year. </b>\n
X-WR-RELCALID:4548e14a704ed8eba08bf36d31b8a6d7
X-WR-TIMEZONE:America/Chicago
BEGIN:VTIMEZONE
TZID:America/Chicago
BEGIN:STANDARD
TZNAME:CST
DTSTART:20171105T020000
TZOFFSETFROM:-0500
TZOFFSETTO:-0600
RDATE:20181104T020000
END:STANDARD
BEGIN:DAYLIGHT
TZNAME:CDT
DTSTART:20170312T020000
TZOFFSETFROM:-0600
TZOFFSETTO:-0500
RDATE:20180311T020000
RDATE:20190310T020000
END:DAYLIGHT
END:VTIMEZONE
BEGIN:VEVENT
UID:5cda986f-0dfa-4cf0-bad1-8a818269cf8c
DTSTAMP:20260421T143553Z
DESCRIPTION:<b>Sorry\, but this event is SOLD OUT! Plan to get your tickets
  early next year. </b>\n\nAldridge Gardens proudly presents: Beth White\, 
 Floral Designer Extraordinaire!\n\nShe will lead you into the delightful r
 ealm of creating beautiful Wreaths with greenery provided\, then how to pu
 t together gorgeous Bows and\, to top it all off\, creating a DOODAH! That
  is what she calls “The Perfect Professional Trim.”\n\nAfter you have abso
 rbed and practiced this creativity\, you can come back to the Gardens on D
 ecember 2 for more materials from the Greenery Sale\, now that you see how
  LOVELY you can decorate your space. \n\nThere will be handouts\, ideas ga
 lore\, and you take home what you make! That's Tuesday\, November 28\, fro
 m 9:30 to 11:30 a.m. Don't miss it! \n\nThe cost is $15 for Aldridge Garde
 ns members and $20 for non-members.  \n\n<b>Sorry\, but this event is SOLD
  OUT! Plan to get your tickets early next year. </b>\n
DTSTART;TZID=America/Chicago:20171128T093000
DTEND;TZID=America/Chicago:20171128T113000
LOCATION:The House at Aldridge Gardens
SUMMARY:Wreath Design and Creation Workshop
END:VEVENT
END:VCALENDAR
