BEGIN:VCALENDAR
VERSION:2.0
PRODID:-//aldridgegardens.com//NONSGML kigkonsult.se iCalcreator 2.30.10//
CALSCALE:GREGORIAN
METHOD:PUBLISH
UID:45ffcbdd-7c07-455b-a024-ab65978b4ab2
X-WR-CALDESC:Now is the time to decorate your mantles\, mailboxes\, and ent
 ryways to set the mood for the holidays. So decorate with fresh greenery\,
  botanical materials (i.e. pine cones\, acorns\, grasses\, etc.) and ribbo
 n tree toppers from Aldridge Gardens! Get greenery for wreaths\, garlands\
 , and other holiday decorations! \n\nAnd as long as you’re here and gettin
 g into the spirit of the season\, visit Roots for ornaments\, Christmas de
 corations and gifts. Follow the arbor-covered path to display areas showca
 sing plants\, pots and containers\, books\, home and garden accessories\, 
 and more. Roots is open Monday through Friday\, 10:00 a.m. to 3:00 p.m.
X-WR-RELCALID:914e4697a90fe2befc78926cb561a0ba
X-WR-TIMEZONE:America/Chicago
BEGIN:VTIMEZONE
TZID:America/Chicago
BEGIN:STANDARD
TZNAME:CST
DTSTART:20171105T020000
TZOFFSETFROM:-0500
TZOFFSETTO:-0600
RDATE:20181104T020000
END:STANDARD
BEGIN:DAYLIGHT
TZNAME:CDT
DTSTART:20170312T020000
TZOFFSETFROM:-0600
TZOFFSETTO:-0500
RDATE:20180311T020000
RDATE:20190310T020000
END:DAYLIGHT
END:VTIMEZONE
BEGIN:VEVENT
UID:3fe8174c-62e6-48a0-a69e-1deae066b326
DTSTAMP:20260421T124935Z
DESCRIPTION:Now is the time to decorate your mantles\, mailboxes\, and entr
 yways to set the mood for the holidays. So decorate with fresh greenery\, 
 botanical materials (i.e. pine cones\, acorns\, grasses\, etc.) and ribbon
  tree toppers from Aldridge Gardens! Get greenery for wreaths\, garlands\,
  and other holiday decorations! \n\nAnd as long as you’re here and getting
  into the spirit of the season\, visit Roots for ornaments\, Christmas dec
 orations and gifts. Follow the arbor-covered path to display areas showcas
 ing plants\, pots and containers\, books\, home and garden accessories\, a
 nd more. Roots is open Monday through Friday\, 10:00 a.m. to 3:00 p.m.
DTSTART;TZID=America/Chicago:20171202T090000
DTEND;TZID=America/Chicago:20171202T130000
LOCATION:Behind Aldridge House - on the patio at Roots
SUMMARY:Holiday Greenery Sale
END:VEVENT
END:VCALENDAR
