BEGIN:VCALENDAR
VERSION:2.0
PRODID:-//aldridgegardens.com//NONSGML kigkonsult.se iCalcreator 2.30.10//
CALSCALE:GREGORIAN
METHOD:PUBLISH
UID:36b80480-a4f5-489f-bcb1-c5b7a5d99ced
X-WR-CALDESC:In relief printing with linoleum or wood blocks\, the artist m
 ust carve away the part of the surface that they don't want to print. It's
  an incredibly challenging thought process in both positive and negative s
 pace. And only when you understand how relief printing is done can you ful
 ly appreciate the amazing artistry of Debra Riffe. Her works will be on ex
 hibit in our gallery during December of 2017 and January of 2018.\n\nJoin 
 us on the 11th to hear Debra speak directly about her exhibit. \n
X-WR-RELCALID:23407367112834bc1deaf1239a9a4825
X-WR-TIMEZONE:America/Chicago
BEGIN:VTIMEZONE
TZID:America/Chicago
BEGIN:STANDARD
TZNAME:CST
DTSTART:20171105T020000
TZOFFSETFROM:-0500
TZOFFSETTO:-0600
RDATE:20181104T020000
END:STANDARD
BEGIN:DAYLIGHT
TZNAME:CDT
DTSTART:20170312T020000
TZOFFSETFROM:-0600
TZOFFSETTO:-0500
RDATE:20180311T020000
RDATE:20190310T020000
END:DAYLIGHT
END:VTIMEZONE
BEGIN:VEVENT
UID:dd589e43-a833-4894-aa30-ef8f6ff6a50c
DTSTAMP:20260421T125637Z
DESCRIPTION:In relief printing with linoleum or wood blocks\, the artist mu
 st carve away the part of the surface that they don't want to print. It's 
 an incredibly challenging thought process in both positive and negative sp
 ace. And only when you understand how relief printing is done can you full
 y appreciate the amazing artistry of Debra Riffe. Her works will be on exh
 ibit in our gallery during December of 2017 and January of 2018.\n\nJoin u
 s on the 11th to hear Debra speak directly about her exhibit. \n
DTSTART;TZID=America/Chicago:20171211T180000
DTEND;TZID=America/Chicago:20171211T190000
LOCATION:Eddie and Kay Aldridge Arts and Historical Collections Museum
SUMMARY:Meet the Artist Reception - Debra Riffe
END:VEVENT
END:VCALENDAR
