BEGIN:VCALENDAR
VERSION:2.0
PRODID:-//aldridgegardens.com//NONSGML kigkonsult.se iCalcreator 2.30.10//
CALSCALE:GREGORIAN
METHOD:PUBLISH
UID:441a3251-272a-42f4-8458-d1506b7a5c2e
X-WR-CALDESC:Propagator level members will enjoy their monthly wine recepti
 on while mixing and mingling with the artist. \n\nIn relief printing with 
 linoleum or wood blocks\, the artist must carve away the part of the surfa
 ce that they don't want to print. It's an incredibly challenging thought p
 rocess in both positive and negative space. And only when you understand h
 ow relief printing is done can you fully appreciate the amazing artistry o
 f Debra Riffe. Her works will be on exhibit in our gallery during December
  of 2017 and January of 2018.\n\nJoin us on the 11th to hear Debra speak d
 irectly about her exhibit. \n\nThis propagator member event will roll into
  the general artist reception beginning at 6 p.m. \n
X-WR-RELCALID:3d5e0a8bf818a36730c778731146c0e5
X-WR-TIMEZONE:America/Chicago
BEGIN:VTIMEZONE
TZID:America/Chicago
BEGIN:STANDARD
TZNAME:CST
DTSTART:20171105T020000
TZOFFSETFROM:-0500
TZOFFSETTO:-0600
RDATE:20181104T020000
END:STANDARD
BEGIN:DAYLIGHT
TZNAME:CDT
DTSTART:20170312T020000
TZOFFSETFROM:-0600
TZOFFSETTO:-0500
RDATE:20180311T020000
RDATE:20190310T020000
END:DAYLIGHT
END:VTIMEZONE
BEGIN:VEVENT
UID:f4fb517f-cb48-4b74-8e6a-bffa20b2ec90
DTSTAMP:20260421T125503Z
DESCRIPTION:Propagator level members will enjoy their monthly wine receptio
 n while mixing and mingling with the artist. \n\nIn relief printing with l
 inoleum or wood blocks\, the artist must carve away the part of the surfac
 e that they don't want to print. It's an incredibly challenging thought pr
 ocess in both positive and negative space. And only when you understand ho
 w relief printing is done can you fully appreciate the amazing artistry of
  Debra Riffe. Her works will be on exhibit in our gallery during December 
 of 2017 and January of 2018.\n\nJoin us on the 11th to hear Debra speak di
 rectly about her exhibit. \n\nThis propagator member event will roll into 
 the general artist reception beginning at 6 p.m. \n
DTSTART;TZID=America/Chicago:20171211T170000
DTEND;TZID=America/Chicago:20171211T180000
LOCATION:Eddie and Kay Aldridge Arts and Historical Collections Museum
SUMMARY:Propagator Wine Reception - Debra Riffe
END:VEVENT
END:VCALENDAR
