BEGIN:VCALENDAR
VERSION:2.0
PRODID:-//aldridgegardens.com//NONSGML kigkonsult.se iCalcreator 2.30.10//
CALSCALE:GREGORIAN
METHOD:PUBLISH
UID:abe913ae-03bf-4a96-8efc-183b97650291
X-WR-CALDESC:HYDRANGEA PRUNING – FACT AND FICTION \n\n<b>Speaker:</b>\nDavi
 d Doggett\n\nHydrangea pruning can be a confusing enough topic and it does
 n't help that there is so much contradictory advice given online by well-m
 eaning 'experts.' In the January meeting we'll take a critical look at som
 e of the online advice dealing with hydrangea pruning and sort out the tru
 th from the flat-out-wrong. This timely meeting will get your year off to 
 a proper start to know how to prune your hydrangeas for maximum effect.\n
 \nHandouts will include the Hydrangea Care Calendar and a description of v
 arious types of pruning you might wish to do. We'll also discuss an idea f
 or interested AHS volunteers to adopt a more hands-on effort to support th
 e Aldridge Gardens Dirr Hydrangea Garden.\n\nALABAMA HYDRANGEA SOCIETY\nIn
 terested in learning more about Hydrangeas and other related gardening top
 ics? We invite you to visit and join the Alabama Hydrangea Society. Meetin
 gs take place five times a year at Aldridge Gardens (3530 Lorna Road\, Hoo
 ver) at 1:00 p.m. on the 4th Wednesday of these months: January\, March\, 
 June\, August\, and October. Membership is $15 per year for an individual 
 or $25 per couple. Visitors are always welcome to attend. Please join us.
 \n\nAldridge Gardens is the perfect setting to inspire one’s learning more
  about the various types of Hydrangeas.
X-WR-RELCALID:ec0318922237dfa21fa4e70c83355b91
X-WR-TIMEZONE:America/Chicago
BEGIN:VTIMEZONE
TZID:America/Chicago
BEGIN:STANDARD
TZNAME:CST
DTSTART:20171105T020000
TZOFFSETFROM:-0500
TZOFFSETTO:-0600
RDATE:20181104T020000
END:STANDARD
BEGIN:DAYLIGHT
TZNAME:CDT
DTSTART:20170312T020000
TZOFFSETFROM:-0600
TZOFFSETTO:-0500
RDATE:20180311T020000
RDATE:20190310T020000
END:DAYLIGHT
END:VTIMEZONE
BEGIN:VEVENT
UID:8571cc33-94f2-4369-a909-612e79dea89d
DTSTAMP:20260421T111034Z
DESCRIPTION:HYDRANGEA PRUNING – FACT AND FICTION \n\n<b>Speaker:</b>\nDavid
  Doggett\n\nHydrangea pruning can be a confusing enough topic and it doesn
 't help that there is so much contradictory advice given online by well-me
 aning 'experts.' In the January meeting we'll take a critical look at some
  of the online advice dealing with hydrangea pruning and sort out the trut
 h from the flat-out-wrong. This timely meeting will get your year off to a
  proper start to know how to prune your hydrangeas for maximum effect.\n\n
 Handouts will include the Hydrangea Care Calendar and a description of var
 ious types of pruning you might wish to do. We'll also discuss an idea for
  interested AHS volunteers to adopt a more hands-on effort to support the 
 Aldridge Gardens Dirr Hydrangea Garden.\n\nALABAMA HYDRANGEA SOCIETY\nInte
 rested in learning more about Hydrangeas and other related gardening topic
 s? We invite you to visit and join the Alabama Hydrangea Society. Meetings
  take place five times a year at Aldridge Gardens (3530 Lorna Road\, Hoove
 r) at 1:00 p.m. on the 4th Wednesday of these months: January\, March\, Ju
 ne\, August\, and October. Membership is $15 per year for an individual or
  $25 per couple. Visitors are always welcome to attend. Please join us.\n
 \nAldridge Gardens is the perfect setting to inspire one’s learning more a
 bout the various types of Hydrangeas.
DTSTART;TZID=America/Chicago:20180124T130000
DTEND;TZID=America/Chicago:20180124T140000
LOCATION:Aldridge House at the Gardens
SUMMARY:Alabama Hydrangea Society Meeting
END:VEVENT
END:VCALENDAR
