BEGIN:VCALENDAR
VERSION:2.0
PRODID:-//aldridgegardens.com//NONSGML kigkonsult.se iCalcreator 2.30.10//
CALSCALE:GREGORIAN
METHOD:PUBLISH
UID:6dff75b5-9d67-45fc-aab3-85e4ccdd2466
X-WR-CALDESC:<i>“Photography is more than a job for me\, it is who I am. I 
 love making great\, and sometimes fun\, images.” - Butch Oglesby</i>\n\nBu
 tch Oglesby has seemingly always had a camera in his hands. As a child gro
 wing up in south Alabama\, his mother let him use the family's Brownie Haw
 keye camera to make photos of his friends\, family\, nature\, and sometime
 s even toys. Thankfully\, this passion was something he never outgrew. Tod
 ay\, after living in several states and spending nearly a decade in Europe
 \, he owns BlueMoon Studios in Bluff Park.  \n\nJoin us on the 12th to hea
 r Butch speak directly about his exhibit at Aldridge Gardens. \n
X-WR-RELCALID:65c9b9e06f00473928571695ac029f4a
X-WR-TIMEZONE:America/Chicago
BEGIN:VTIMEZONE
TZID:America/Chicago
BEGIN:STANDARD
TZNAME:CST
DTSTART:20171105T020000
TZOFFSETFROM:-0500
TZOFFSETTO:-0600
RDATE:20181104T020000
END:STANDARD
BEGIN:DAYLIGHT
TZNAME:CDT
DTSTART:20170312T020000
TZOFFSETFROM:-0600
TZOFFSETTO:-0500
RDATE:20180311T020000
RDATE:20190310T020000
END:DAYLIGHT
END:VTIMEZONE
BEGIN:VEVENT
UID:6769b9a3-8413-4a67-a36c-d44877ce05a6
DTSTAMP:20260421T093913Z
DESCRIPTION:<i>“Photography is more than a job for me\, it is who I am. I l
 ove making great\, and sometimes fun\, images.” - Butch Oglesby</i>\n\nBut
 ch Oglesby has seemingly always had a camera in his hands. As a child grow
 ing up in south Alabama\, his mother let him use the family's Brownie Hawk
 eye camera to make photos of his friends\, family\, nature\, and sometimes
  even toys. Thankfully\, this passion was something he never outgrew. Toda
 y\, after living in several states and spending nearly a decade in Europe\
 , he owns BlueMoon Studios in Bluff Park.  \n\nJoin us on the 12th to hear
  Butch speak directly about his exhibit at Aldridge Gardens. \n
DTSTART;TZID=America/Chicago:20180212T180000
DTEND;TZID=America/Chicago:20180212T190000
LOCATION:Eddie and Kay Aldridge Arts and Historical Collections Museum
SUMMARY:Meet the Artist Reception - Butch Oglesby
END:VEVENT
END:VCALENDAR
