BEGIN:VCALENDAR
VERSION:2.0
PRODID:-//aldridgegardens.com//NONSGML kigkonsult.se iCalcreator 2.30.10//
CALSCALE:GREGORIAN
METHOD:PUBLISH
UID:bd8ca5b1-e4e1-41fb-bab0-cf708c472127
X-WR-CALDESC:Propagator level members will enjoy their monthly wine recepti
 on while mixing and mingling with the artist. \n\n<i>“Photography is more 
 than a job for me\, it is who I am. I love making great\, and sometimes fu
 n\, images.” - Butch Oglesby</i>\n\nButch Oglesby has seemingly always had
  a camera in his hands. As a child growing up in south Alabama\, his mothe
 r let him use the family's Brownie Hawkeye camera to make photos of his fr
 iends\, family\, nature\, and sometimes even toys. Thankfully\, this passi
 on was something he never outgrew. Today\, after living in several states 
 and spending nearly a decade in Europe\, he owns BlueMoon Studios in Bluff
  Park.  \n\nJoin us on the 12th to hear Butch speak directly about his exh
 ibit at Aldridge Gardens. \n\nThis propagator member event will roll into 
 the general artist reception beginning at 6 p.m. \n
X-WR-RELCALID:3f5f401dad2310f04236ad1acdf1b961
X-WR-TIMEZONE:America/Chicago
BEGIN:VTIMEZONE
TZID:America/Chicago
BEGIN:STANDARD
TZNAME:CST
DTSTART:20171105T020000
TZOFFSETFROM:-0500
TZOFFSETTO:-0600
RDATE:20181104T020000
END:STANDARD
BEGIN:DAYLIGHT
TZNAME:CDT
DTSTART:20170312T020000
TZOFFSETFROM:-0600
TZOFFSETTO:-0500
RDATE:20180311T020000
RDATE:20190310T020000
END:DAYLIGHT
END:VTIMEZONE
BEGIN:VEVENT
UID:d99c0a3d-bfb0-4f87-adc4-44834fa1053c
DTSTAMP:20260421T093622Z
DESCRIPTION:Propagator level members will enjoy their monthly wine receptio
 n while mixing and mingling with the artist. \n\n<i>“Photography is more t
 han a job for me\, it is who I am. I love making great\, and sometimes fun
 \, images.” - Butch Oglesby</i>\n\nButch Oglesby has seemingly always had 
 a camera in his hands. As a child growing up in south Alabama\, his mother
  let him use the family's Brownie Hawkeye camera to make photos of his fri
 ends\, family\, nature\, and sometimes even toys. Thankfully\, this passio
 n was something he never outgrew. Today\, after living in several states a
 nd spending nearly a decade in Europe\, he owns BlueMoon Studios in Bluff 
 Park.  \n\nJoin us on the 12th to hear Butch speak directly about his exhi
 bit at Aldridge Gardens. \n\nThis propagator member event will roll into t
 he general artist reception beginning at 6 p.m. \n
DTSTART;TZID=America/Chicago:20180212T170000
DTEND;TZID=America/Chicago:20180212T180000
LOCATION:Eddie and Kay Aldridge Arts and Historical Collections Museum
SUMMARY:Propagator Wine Reception - Butch Oglesby
END:VEVENT
END:VCALENDAR
