BEGIN:VCALENDAR
VERSION:2.0
PRODID:-//aldridgegardens.com//NONSGML kigkonsult.se iCalcreator 2.30.10//
CALSCALE:GREGORIAN
METHOD:PUBLISH
UID:d236bc1c-6f2f-40e6-bc02-7d0ab691e62d
X-WR-CALDESC:<b>This event is SOLD OUT.</b>\n\nBring your camera and join B
 utch Oglesby\, Birmingham Art Photographer and owner of Blue Moon Studios\
 , for a 'walk and talk' about making outstanding photos of nature\, using 
 Aldridge Gardens as your subject.  \n\nThis event will have two parts. The
  first part is outside\, taking photos\, and will last up to an hour.  (Th
 ere are benches and picnic tables all around for a sit-down\, if you desir
 e.) The second half will be inside to warm up with cocoa and marshmallows 
 while we discuss what can be done with your photos. \n\nWe are limiting th
 e workshop to 20 participants. Cost is $20 for Aldridge Gardens members an
 d $25 for non-members.\n\nButch's photography will be on display in our ga
 llery during February and April. For more information on him\, visit bogle
 sby.com. \n\n<b>This event is SOLD OUT.</b>\n
X-WR-RELCALID:55b2185048f8e66c3d82222990fcbd0b
X-WR-TIMEZONE:America/Chicago
BEGIN:VTIMEZONE
TZID:America/Chicago
BEGIN:STANDARD
TZNAME:CST
DTSTART:20171105T020000
TZOFFSETFROM:-0500
TZOFFSETTO:-0600
RDATE:20181104T020000
END:STANDARD
BEGIN:DAYLIGHT
TZNAME:CDT
DTSTART:20170312T020000
TZOFFSETFROM:-0600
TZOFFSETTO:-0500
RDATE:20180311T020000
RDATE:20190310T020000
END:DAYLIGHT
END:VTIMEZONE
BEGIN:VEVENT
UID:e28d165e-66ce-4cea-ba15-136a3648dc93
DTSTAMP:20260421T081300Z
DESCRIPTION:<b>This event is SOLD OUT.</b>\n\nBring your camera and join Bu
 tch Oglesby\, Birmingham Art Photographer and owner of Blue Moon Studios\,
  for a 'walk and talk' about making outstanding photos of nature\, using A
 ldridge Gardens as your subject.  \n\nThis event will have two parts. The 
 first part is outside\, taking photos\, and will last up to an hour.  (The
 re are benches and picnic tables all around for a sit-down\, if you desire
 .) The second half will be inside to warm up with cocoa and marshmallows w
 hile we discuss what can be done with your photos. \n\nWe are limiting the
  workshop to 20 participants. Cost is $20 for Aldridge Gardens members and
  $25 for non-members.\n\nButch's photography will be on display in our gal
 lery during February and April. For more information on him\, visit bogles
 by.com. \n\n<b>This event is SOLD OUT.</b>\n
DTSTART;TZID=America/Chicago:20180304T130000
DTEND;TZID=America/Chicago:20180304T150000
LOCATION:
SUMMARY:Hot Tips for Cool Photos with Butch Oglesby
END:VEVENT
END:VCALENDAR
