BEGIN:VCALENDAR
VERSION:2.0
PRODID:-//aldridgegardens.com//NONSGML kigkonsult.se iCalcreator 2.30.10//
CALSCALE:GREGORIAN
METHOD:PUBLISH
UID:779df0cc-324f-477d-94b0-d423311c9a8a
X-WR-CALDESC:Join us on the first day of spring\, to learn the tips and tri
 cks to create a tablescape that\, with minimal refreshing and fuss\, will 
 last you until Halloween!  Plus\, we'll also be learning fun napkin folds 
 as well. \n\nWe are limiting the workshop to 15 participants. Cost is $20 
 for Aldridge Gardens members and $25 for non-members.
X-WR-RELCALID:26f3b7d28bab6a1bef86a057a2b39240
X-WR-TIMEZONE:America/Chicago
BEGIN:VTIMEZONE
TZID:America/Chicago
BEGIN:STANDARD
TZNAME:CST
DTSTART:20171105T020000
TZOFFSETFROM:-0500
TZOFFSETTO:-0600
RDATE:20181104T020000
END:STANDARD
BEGIN:DAYLIGHT
TZNAME:CDT
DTSTART:20180311T020000
TZOFFSETFROM:-0600
TZOFFSETTO:-0500
RDATE:20190310T020000
END:DAYLIGHT
END:VTIMEZONE
BEGIN:VEVENT
UID:58afc4c0-b68d-449f-b4e8-5c092467c5ad
DTSTAMP:20260421T081751Z
DESCRIPTION:Join us on the first day of spring\, to learn the tips and tric
 ks to create a tablescape that\, with minimal refreshing and fuss\, will l
 ast you until Halloween!  Plus\, we'll also be learning fun napkin folds a
 s well. \n\nWe are limiting the workshop to 15 participants. Cost is $20 f
 or Aldridge Gardens members and $25 for non-members.
DTSTART;TZID=America/Chicago:20180320T093000
DTEND;TZID=America/Chicago:20180320T113000
LOCATION:The Pavilion at Aldridge Gardens
SUMMARY:Springtime Tablescapes with Beth White
END:VEVENT
END:VCALENDAR
