BEGIN:VCALENDAR
VERSION:2.0
PRODID:-//aldridgegardens.com//NONSGML kigkonsult.se iCalcreator 2.30.10//
CALSCALE:GREGORIAN
METHOD:PUBLISH
UID:e035b4bc-2def-49ee-93aa-7868789835cc
X-WR-CALDESC:Participants will learn some beginning embroidery stitches fro
 m Karen Taylor (VP of the Birmingham Embroidery Guild) that will be stuffe
 d and sewn into a take-home sachet.  \n\nWe are limiting the workshop to 1
 5 participants. Cost is $15 for Aldridge Gardens members and $20 for non-m
 embers.
X-WR-RELCALID:f499f497e02a5b980fcff963aa2e55db
X-WR-TIMEZONE:America/Chicago
BEGIN:VTIMEZONE
TZID:America/Chicago
BEGIN:STANDARD
TZNAME:CST
DTSTART:20171105T020000
TZOFFSETFROM:-0500
TZOFFSETTO:-0600
RDATE:20181104T020000
END:STANDARD
BEGIN:DAYLIGHT
TZNAME:CDT
DTSTART:20180311T020000
TZOFFSETFROM:-0600
TZOFFSETTO:-0500
RDATE:20190310T020000
END:DAYLIGHT
END:VTIMEZONE
BEGIN:VEVENT
UID:f80d21c8-bbde-47b7-bc23-2545a9d5d5f8
DTSTAMP:20260421T063500Z
DESCRIPTION:Participants will learn some beginning embroidery stitches from
  Karen Taylor (VP of the Birmingham Embroidery Guild) that will be stuffed
  and sewn into a take-home sachet.  \n\nWe are limiting the workshop to 15
  participants. Cost is $15 for Aldridge Gardens members and $20 for non-me
 mbers.
DTSTART;TZID=America/Chicago:20180403T100000
DTEND;TZID=America/Chicago:20180403T120000
LOCATION:The House at Aldridge Gardens
SUMMARY:Beginning Embroidery - Creating a Flower Sachet with Karen Taylor
END:VEVENT
END:VCALENDAR
