BEGIN:VCALENDAR
VERSION:2.0
PRODID:-//aldridgegardens.com//NONSGML kigkonsult.se iCalcreator 2.30.10//
CALSCALE:GREGORIAN
METHOD:PUBLISH
UID:1fa210d3-bfa1-409c-a8ae-9bf301c51b76
X-WR-CALDESC:Propagator level members will enjoy their monthly wine recepti
 on while mixing and mingling with the artist. \n\n<i>Alisa Koch works in o
 il with the use of a palette knife. Her pieces have been best described as
  moody and evocative landscapes.</i>\n\nAlisa strives to harness nature’s 
 “movement” in her work. Each brush stroke pushes and pulls right to the ed
 ge of losing the color it needs to be. She focuses on the shapes and patte
 rns of nature and the effect they have on the senses. She finds delight in
  the struggle and reconciliation between her mind’s ability to understand 
 what is tugging at her soul and her artistic ability to communicate even t
 he most minor revelations to others through her work.\n\nJoin us on the 9t
 h to hear Alisa speak directly about her exhibit at Aldridge Gardens. \n\n
 This propagator member event will roll into the general artist reception b
 eginning at 6 p.m. \n
X-WR-RELCALID:bf4b2bfe54d38e981576a6412aed687f
X-WR-TIMEZONE:America/Chicago
BEGIN:VTIMEZONE
TZID:America/Chicago
BEGIN:STANDARD
TZNAME:CST
DTSTART:20171105T020000
TZOFFSETFROM:-0500
TZOFFSETTO:-0600
RDATE:20181104T020000
END:STANDARD
BEGIN:DAYLIGHT
TZNAME:CDT
DTSTART:20180311T020000
TZOFFSETFROM:-0600
TZOFFSETTO:-0500
RDATE:20190310T020000
END:DAYLIGHT
END:VTIMEZONE
BEGIN:VEVENT
UID:4b75d6e2-29d1-4902-9373-2428d1debff9
DTSTAMP:20260421T063802Z
DESCRIPTION:Propagator level members will enjoy their monthly wine receptio
 n while mixing and mingling with the artist. \n\n<i>Alisa Koch works in oi
 l with the use of a palette knife. Her pieces have been best described as 
 moody and evocative landscapes.</i>\n\nAlisa strives to harness nature’s “
 movement” in her work. Each brush stroke pushes and pulls right to the edg
 e of losing the color it needs to be. She focuses on the shapes and patter
 ns of nature and the effect they have on the senses. She finds delight in 
 the struggle and reconciliation between her mind’s ability to understand w
 hat is tugging at her soul and her artistic ability to communicate even th
 e most minor revelations to others through her work.\n\nJoin us on the 9th
  to hear Alisa speak directly about her exhibit at Aldridge Gardens. \n\nT
 his propagator member event will roll into the general artist reception be
 ginning at 6 p.m. \n
DTSTART;TZID=America/Chicago:20180409T170000
DTEND;TZID=America/Chicago:20180409T180000
LOCATION:Eddie and Kay Aldridge Arts and Historical Collections Museum
SUMMARY:Propagator Wine Reception - Alisa Koch
END:VEVENT
END:VCALENDAR
