BEGIN:VCALENDAR
VERSION:2.0
PRODID:-//aldridgegardens.com//NONSGML kigkonsult.se iCalcreator 2.30.10//
CALSCALE:GREGORIAN
METHOD:PUBLISH
UID:752a98c9-251a-4c69-9a2b-e5bc91208794
X-WR-CALDESC:Join David Doggett for a walk through the Gardens to see and l
 earn about the various Japanese Maples featured on our grounds. In additio
 n\, a few Japanese maples will be available for sale. This event is free f
 or registered participants.
X-WR-RELCALID:98eeb86da34cb18cdc12965b01151bd0
X-WR-TIMEZONE:America/Chicago
BEGIN:VTIMEZONE
TZID:America/Chicago
BEGIN:STANDARD
TZNAME:CST
DTSTART:20171105T020000
TZOFFSETFROM:-0500
TZOFFSETTO:-0600
RDATE:20181104T020000
END:STANDARD
BEGIN:DAYLIGHT
TZNAME:CDT
DTSTART:20180311T020000
TZOFFSETFROM:-0600
TZOFFSETTO:-0500
RDATE:20190310T020000
END:DAYLIGHT
END:VTIMEZONE
BEGIN:VEVENT
UID:f321ecaa-77c1-4ffa-85e3-8e70bca7200f
DTSTAMP:20260421T063643Z
DESCRIPTION:Join David Doggett for a walk through the Gardens to see and le
 arn about the various Japanese Maples featured on our grounds. In addition
 \, a few Japanese maples will be available for sale. This event is free fo
 r registered participants.
DTSTART;TZID=America/Chicago:20180421T090000
DTEND;TZID=America/Chicago:20180421T103000
LOCATION:
SUMMARY:Japanese Maple Walk and Talk with David Doggett
END:VEVENT
END:VCALENDAR
