BEGIN:VCALENDAR
VERSION:2.0
PRODID:-//aldridgegardens.com//NONSGML kigkonsult.se iCalcreator 2.30.10//
CALSCALE:GREGORIAN
METHOD:PUBLISH
UID:d6d0450f-5ea2-4dd1-bad4-1b7af2bcfa66
X-WR-CALDESC:Yoga in the Gardens with Star\n\n<b>9:30 to 10:45 a.m.\, Wedne
 sdays in April and May (except May 2nd)\, weather permitting.</b>\nCheck f
 or class updates and cancellations on the Southern Star Wellness Facebook 
 page. (See related links at the bottom of this page.)\n\nHave you always w
 anted to try a yoga class?  Well now's your chance. Take this class with c
 ertified Hatha Yoga instructor\, Star Rosser. Her classes promote positive
  body image and are filled with self-care\, love\, and a little laughter. 
 Plan to wear clothes that are comfortable to move in. You'll also need to 
 bring a mat\, towel\, and water.\n\nHatha Yoga is focused on slow\, mindfu
 l movements that build awareness of mind\, body\, and breathing.  The clas
 s is geared towards beginners to intermediates and has a slow pace.  \n\nF
 irst class on April 4th is free. Each additional class is $10 for Aldridge
  Gardens members and $15 for non-members.\n\nContact Star at starletrosser
 @yahoo.com to register and bring your payment to class.
X-WR-RELCALID:4713c65389f231cf3e521fc197a02cc9
X-WR-TIMEZONE:America/Chicago
BEGIN:VTIMEZONE
TZID:America/Chicago
BEGIN:STANDARD
TZNAME:CST
DTSTART:20171105T020000
TZOFFSETFROM:-0500
TZOFFSETTO:-0600
RDATE:20181104T020000
END:STANDARD
BEGIN:DAYLIGHT
TZNAME:CDT
DTSTART:20180311T020000
TZOFFSETFROM:-0600
TZOFFSETTO:-0500
RDATE:20190310T020000
END:DAYLIGHT
END:VTIMEZONE
BEGIN:VEVENT
UID:502a4066-42a7-4b39-9217-3cdfb7c11cc8
DTSTAMP:20260421T063827Z
DESCRIPTION:Yoga in the Gardens with Star\n\n<b>9:30 to 10:45 a.m.\, Wednes
 days in April and May (except May 2nd)\, weather permitting.</b>\nCheck fo
 r class updates and cancellations on the Southern Star Wellness Facebook p
 age. (See related links at the bottom of this page.)\n\nHave you always wa
 nted to try a yoga class?  Well now's your chance. Take this class with ce
 rtified Hatha Yoga instructor\, Star Rosser. Her classes promote positive 
 body image and are filled with self-care\, love\, and a little laughter. P
 lan to wear clothes that are comfortable to move in. You'll also need to b
 ring a mat\, towel\, and water.\n\nHatha Yoga is focused on slow\, mindful
  movements that build awareness of mind\, body\, and breathing.  The class
  is geared towards beginners to intermediates and has a slow pace.  \n\nFi
 rst class on April 4th is free. Each additional class is $10 for Aldridge 
 Gardens members and $15 for non-members.\n\nContact Star at starletrosser@
 yahoo.com to register and bring your payment to class.
DTSTART;TZID=America/Chicago:20180425T093000
DTEND;TZID=America/Chicago:20180425T104500
LOCATION:The patio near Roots Garden and Gift Shop
SUMMARY:Yoga in the Gardens with Star
END:VEVENT
END:VCALENDAR
