BEGIN:VCALENDAR
VERSION:2.0
PRODID:-//aldridgegardens.com//NONSGML kigkonsult.se iCalcreator 2.30.10//
CALSCALE:GREGORIAN
METHOD:PUBLISH
UID:91779b1f-458b-4151-9699-2b59c2ff6aed
X-WR-CALDESC:Annual Spring Plant Sale - Thursday\, April 26\, 10 a.m. - 6 p
 .m.\nAnnual Spring Plant Sale - Friday\, April 27\, 9 a.m. - 5 p.m.\nAnnua
 l Spring Plant Sale - Saturday\, April 28\, 9 a.m. - Noon\n\nFind the perf
 ect plants for your container or garden spot! Volunteers and gardeners wil
 l be on hand to help with selections and to give advice about placement\, 
 care and maintenance. \n\nCustomers can own 'a little bit of Aldridge Gard
 ens' when they buy a pass-along plant that lived there! We are going to ha
 ve many plants with an Aldridge Gardens heritage. In addition\, we'll also
  have many more from members and friends of the gardens!\n\nOur main featu
 re is always the 'Snowflake' hydrangea\, but shoppers can also choose from
  a host of others. Shoppers will find many varieties and sizes of hydrange
 as at our annual Spring Plant Sale! \n\nAnd\, remember\, members always ge
 t 10% off purchases!
X-WR-RELCALID:ff405c5b720b204ff3ab71cb38448ee8
X-WR-TIMEZONE:America/Chicago
BEGIN:VTIMEZONE
TZID:America/Chicago
BEGIN:STANDARD
TZNAME:CST
DTSTART:20171105T020000
TZOFFSETFROM:-0500
TZOFFSETTO:-0600
RDATE:20181104T020000
END:STANDARD
BEGIN:DAYLIGHT
TZNAME:CDT
DTSTART:20180311T020000
TZOFFSETFROM:-0600
TZOFFSETTO:-0500
RDATE:20190310T020000
END:DAYLIGHT
END:VTIMEZONE
BEGIN:VEVENT
UID:834e77f9-3866-43ae-94a6-191fc7d1cdcf
DTSTAMP:20260421T064130Z
DESCRIPTION:Annual Spring Plant Sale - Thursday\, April 26\, 10 a.m. - 6 p.
 m.\nAnnual Spring Plant Sale - Friday\, April 27\, 9 a.m. - 5 p.m.\nAnnual
  Spring Plant Sale - Saturday\, April 28\, 9 a.m. - Noon\n\nFind the perfe
 ct plants for your container or garden spot! Volunteers and gardeners will
  be on hand to help with selections and to give advice about placement\, c
 are and maintenance. \n\nCustomers can own 'a little bit of Aldridge Garde
 ns' when they buy a pass-along plant that lived there! We are going to hav
 e many plants with an Aldridge Gardens heritage. In addition\, we'll also 
 have many more from members and friends of the gardens!\n\nOur main featur
 e is always the 'Snowflake' hydrangea\, but shoppers can also choose from 
 a host of others. Shoppers will find many varieties and sizes of hydrangea
 s at our annual Spring Plant Sale! \n\nAnd\, remember\, members always get
  10% off purchases!
DTSTART;TZID=America/Chicago:20180426T100000
DTEND;TZID=America/Chicago:20180426T180000
LOCATION:
SUMMARY:Annual Spring Plant Sale
END:VEVENT
END:VCALENDAR
