BEGIN:VCALENDAR
VERSION:2.0
PRODID:-//aldridgegardens.com//NONSGML kigkonsult.se iCalcreator 2.30.10//
CALSCALE:GREGORIAN
METHOD:PUBLISH
UID:aafc50e9-2e15-42e9-864c-d1aba8051b3d
X-WR-CALDESC:Join us for our annual Spring Plant Sale. \n\nThursday\, April
  26\, 10 a.m. - 6 p.m.\nFriday\, April 27\, 9 a.m. - 5 p.m.\nSaturday\, Ap
 ril 28\, 9 a.m. - Noon\n\nFind the perfect plants for your container or ga
 rden spot! Volunteers and gardeners will be on hand to help with selection
 s and to give advice about placement\, care and maintenance. \n\nCustomers
  can own 'a little bit of Aldridge Gardens' when they buy a pass-along pla
 nt that lived there! We are going to have many plants with an Aldridge Gar
 dens heritage. In addition\, we'll also have many more from members and fr
 iends of the gardens!\n\nOur main feature is always the 'Snowflake' hydran
 gea\, but shoppers can also choose from a host of others. Shoppers will fi
 nd many varieties and sizes of hydrangeas at our annual Spring Plant Sale!
  \n\nMeet The Grumpy Gardener\, Steve Bender. He'll be signing his self-ti
 tled book\, The Grumpy Gardener\, from 10 a.m. to noon. \n\nAnd\, remember
 \, members always get 10% off purchases!
X-WR-RELCALID:046175389f3387753179fa3682362880
X-WR-TIMEZONE:America/Chicago
BEGIN:VTIMEZONE
TZID:America/Chicago
BEGIN:STANDARD
TZNAME:CST
DTSTART:20171105T020000
TZOFFSETFROM:-0500
TZOFFSETTO:-0600
RDATE:20181104T020000
END:STANDARD
BEGIN:DAYLIGHT
TZNAME:CDT
DTSTART:20180311T020000
TZOFFSETFROM:-0600
TZOFFSETTO:-0500
RDATE:20190310T020000
END:DAYLIGHT
END:VTIMEZONE
BEGIN:VEVENT
UID:579301a2-4a18-44d6-8c5f-5c7e0ef84de1
DTSTAMP:20260421T063525Z
DESCRIPTION:Join us for our annual Spring Plant Sale. \n\nThursday\, April 
 26\, 10 a.m. - 6 p.m.\nFriday\, April 27\, 9 a.m. - 5 p.m.\nSaturday\, Apr
 il 28\, 9 a.m. - Noon\n\nFind the perfect plants for your container or gar
 den spot! Volunteers and gardeners will be on hand to help with selections
  and to give advice about placement\, care and maintenance. \n\nCustomers 
 can own 'a little bit of Aldridge Gardens' when they buy a pass-along plan
 t that lived there! We are going to have many plants with an Aldridge Gard
 ens heritage. In addition\, we'll also have many more from members and fri
 ends of the gardens!\n\nOur main feature is always the 'Snowflake' hydrang
 ea\, but shoppers can also choose from a host of others. Shoppers will fin
 d many varieties and sizes of hydrangeas at our annual Spring Plant Sale! 
 \n\nMeet The Grumpy Gardener\, Steve Bender. He'll be signing his self-tit
 led book\, The Grumpy Gardener\, from 10 a.m. to noon. \n\nAnd\, remember\
 , members always get 10% off purchases!
DTSTART;TZID=America/Chicago:20180427T090000
DTEND;TZID=America/Chicago:20180427T170000
LOCATION:
SUMMARY:Annual Spring Plant Sale
END:VEVENT
END:VCALENDAR
