BEGIN:VCALENDAR
VERSION:2.0
PRODID:-//aldridgegardens.com//NONSGML kigkonsult.se iCalcreator 2.30.10//
CALSCALE:GREGORIAN
METHOD:PUBLISH
UID:4404e0d1-3a79-435c-9822-14c36b580519
X-WR-CALDESC:Hydrangeas are a major component of Southern gardens and the h
 allmark of Aldridge Gardens.  This hands-on workshop will teach you an eas
 y way to propagate hydrangeas for yourself.  Class members may root up to 
 three fresh hydrangea cuttings to take home.\n \nPlease bring a CLEAR\, em
 pty 2 liter plastic soda bottle\, your pruners\, and a pair of scissors fo
 r trimming leaves.  \n\nInstructors: David Doggett and Willie Edmiston\, H
 ydrangea Propagators\n\nCost: $20 Members/$25 Non-Members. \n\n
X-WR-RELCALID:32d4f7712ea4a63aaf4486c1e3573a2c
X-WR-TIMEZONE:America/Chicago
BEGIN:VTIMEZONE
TZID:America/Chicago
BEGIN:STANDARD
TZNAME:CST
DTSTART:20171105T020000
TZOFFSETFROM:-0500
TZOFFSETTO:-0600
RDATE:20181104T020000
RDATE:20191103T020000
END:STANDARD
BEGIN:DAYLIGHT
TZNAME:CDT
DTSTART:20180311T020000
TZOFFSETFROM:-0600
TZOFFSETTO:-0500
RDATE:20190310T020000
END:DAYLIGHT
END:VTIMEZONE
BEGIN:VEVENT
UID:29360c55-6d22-4cd3-885f-e27ccf4bfe14
DTSTAMP:20260421T045026Z
DESCRIPTION:Hydrangeas are a major component of Southern gardens and the ha
 llmark of Aldridge Gardens.  This hands-on workshop will teach you an easy
  way to propagate hydrangeas for yourself.  Class members may root up to t
 hree fresh hydrangea cuttings to take home.\n \nPlease bring a CLEAR\, emp
 ty 2 liter plastic soda bottle\, your pruners\, and a pair of scissors for
  trimming leaves.  \n\nInstructors: David Doggett and Willie Edmiston\, Hy
 drangea Propagators\n\nCost: $20 Members/$25 Non-Members. \n\n
DTSTART;TZID=America/Chicago:20180512T083000
DTEND;TZID=America/Chicago:20180512T103000
LOCATION:Aldridge Gardens' Hydrangea Garden\, Dirr Collection
SUMMARY:Hydrangea Propagation Workshop
END:VEVENT
END:VCALENDAR
