BEGIN:VCALENDAR
VERSION:2.0
PRODID:-//aldridgegardens.com//NONSGML kigkonsult.se iCalcreator 2.30.10//
CALSCALE:GREGORIAN
METHOD:PUBLISH
UID:efb58743-aa4e-4e9d-ac63-1d8d1b9712d7
X-WR-CALDESC:Yoga in the Gardens with Star\n\n<b>9:30 to 10:45 a.m.\, Wedne
 sdays in May (except May 2nd)\, weather permitting.</b>\nCheck for class u
 pdates and cancellations on the Southern Star Wellness Facebook page. (See
  related links at the bottom of this page.)\n\nHave you always wanted to t
 ry a yoga class?  Well now's your chance. Take this class with certified H
 atha Yoga instructor\, Star Rosser. Her classes promote positive body imag
 e and are filled with self-care\, love\, and a little laughter. Plan to we
 ar clothes that are comfortable to move in. You'll also need to bring a ma
 t\, towel\, and water.\n\nHatha Yoga is focused on slow\, mindful movement
 s that build awareness of mind\, body\, and breathing.  The class is geare
 d towards beginners to intermediates and has a slow pace.  \n\nEach class 
 is $10 for Aldridge Gardens members and $15 for non-members.\n\nContact St
 ar at starletrosser@yahoo.com to register and bring your payment to class.
X-WR-RELCALID:01d3aa140c95eed12d1bd104b2086329
X-WR-TIMEZONE:America/Chicago
BEGIN:VTIMEZONE
TZID:America/Chicago
BEGIN:STANDARD
TZNAME:CST
DTSTART:20171105T020000
TZOFFSETFROM:-0500
TZOFFSETTO:-0600
RDATE:20181104T020000
RDATE:20191103T020000
END:STANDARD
BEGIN:DAYLIGHT
TZNAME:CDT
DTSTART:20180311T020000
TZOFFSETFROM:-0600
TZOFFSETTO:-0500
RDATE:20190310T020000
END:DAYLIGHT
END:VTIMEZONE
BEGIN:VEVENT
UID:67411899-9488-4dd7-9ab7-803a5bd13702
DTSTAMP:20260421T050515Z
DESCRIPTION:Yoga in the Gardens with Star\n\n<b>9:30 to 10:45 a.m.\, Wednes
 days in May (except May 2nd)\, weather permitting.</b>\nCheck for class up
 dates and cancellations on the Southern Star Wellness Facebook page. (See 
 related links at the bottom of this page.)\n\nHave you always wanted to tr
 y a yoga class?  Well now's your chance. Take this class with certified Ha
 tha Yoga instructor\, Star Rosser. Her classes promote positive body image
  and are filled with self-care\, love\, and a little laughter. Plan to wea
 r clothes that are comfortable to move in. You'll also need to bring a mat
 \, towel\, and water.\n\nHatha Yoga is focused on slow\, mindful movements
  that build awareness of mind\, body\, and breathing.  The class is geared
  towards beginners to intermediates and has a slow pace.  \n\nEach class i
 s $10 for Aldridge Gardens members and $15 for non-members.\n\nContact Sta
 r at starletrosser@yahoo.com to register and bring your payment to class.
DTSTART;TZID=America/Chicago:20180523T093000
DTEND;TZID=America/Chicago:20180523T104500
LOCATION:The patio near Roots Garden and Gift Shop
SUMMARY:Yoga in the Gardens with Star
END:VEVENT
END:VCALENDAR
