BEGIN:VCALENDAR
VERSION:2.0
PRODID:-//aldridgegardens.com//NONSGML kigkonsult.se iCalcreator 2.30.10//
CALSCALE:GREGORIAN
METHOD:PUBLISH
UID:376a110c-f0ca-4318-a09e-53b88deb5151
X-WR-CALDESC:June 4 - 8\nEntering Grades 5k – 3\n\nIt’s time for summer! Gi
 rls\, are you ready for some fun? Bring your doll to camp at Aldridge Gard
 ens. (May also include My Life or Our Generation Dolls.) You and your doll
  will explore the magic of the Gardens\, you’ll make all kinds of accessor
 ies and crafts for you and your dolls\, and even have a tea party!  Join u
 s as we make new friends and great memories!\n\nInstructor: Kayla Latuso
X-WR-RELCALID:2d06ea5f46b0fcf9301715c00a3b7697
X-WR-TIMEZONE:America/Chicago
BEGIN:VTIMEZONE
TZID:America/Chicago
BEGIN:STANDARD
TZNAME:CST
DTSTART:20171105T020000
TZOFFSETFROM:-0500
TZOFFSETTO:-0600
RDATE:20181104T020000
RDATE:20191103T020000
END:STANDARD
BEGIN:DAYLIGHT
TZNAME:CDT
DTSTART:20180311T020000
TZOFFSETFROM:-0600
TZOFFSETTO:-0500
RDATE:20190310T020000
END:DAYLIGHT
END:VTIMEZONE
BEGIN:VEVENT
UID:f30dad2d-dee3-4fae-8c29-804e9ec03e46
DTSTAMP:20260421T032652Z
DESCRIPTION:June 4 - 8\nEntering Grades 5k – 3\n\nIt’s time for summer! Gir
 ls\, are you ready for some fun? Bring your doll to camp at Aldridge Garde
 ns. (May also include My Life or Our Generation Dolls.) You and your doll 
 will explore the magic of the Gardens\, you’ll make all kinds of accessori
 es and crafts for you and your dolls\, and even have a tea party!  Join us
  as we make new friends and great memories!\n\nInstructor: Kayla Latuso
DTSTART;TZID=America/Chicago:20180604T090000
DTEND;TZID=America/Chicago:20180604T120000
LOCATION:
SUMMARY:Summer Camp: American Girl Dolls Grades 5k-3rd
END:VEVENT
END:VCALENDAR
