BEGIN:VCALENDAR
VERSION:2.0
PRODID:-//aldridgegardens.com//NONSGML kigkonsult.se iCalcreator 2.30.10//
CALSCALE:GREGORIAN
METHOD:PUBLISH
UID:bee135ee-8098-4de0-a550-e57f59bd6999
X-WR-CALDESC:June 4 - 8\nEntering Grades 5k – 3\n\nUnleash your creativity.
  Make things. Something BIG\, colorful\, and wild!\n\nInstructor: Leigh Sm
 ith
X-WR-RELCALID:b0ac44007f7b9d6587223d4ca883748d
X-WR-TIMEZONE:America/Chicago
BEGIN:VTIMEZONE
TZID:America/Chicago
BEGIN:STANDARD
TZNAME:CST
DTSTART:20171105T020000
TZOFFSETFROM:-0500
TZOFFSETTO:-0600
RDATE:20181104T020000
RDATE:20191103T020000
END:STANDARD
BEGIN:DAYLIGHT
TZNAME:CDT
DTSTART:20180311T020000
TZOFFSETFROM:-0600
TZOFFSETTO:-0500
RDATE:20190310T020000
END:DAYLIGHT
END:VTIMEZONE
BEGIN:VEVENT
UID:ea1cd3a4-fad8-40e3-b03b-3b557810896e
DTSTAMP:20260421T032452Z
DESCRIPTION:June 4 - 8\nEntering Grades 5k – 3\n\nUnleash your creativity. 
 Make things. Something BIG\, colorful\, and wild!\n\nInstructor: Leigh Smi
 th
DTSTART;TZID=America/Chicago:20180604T090000
DTEND;TZID=America/Chicago:20180604T120000
LOCATION:
SUMMARY:Summer Camp: Cool Art Grades 5k-3rd
END:VEVENT
END:VCALENDAR
