BEGIN:VCALENDAR
VERSION:2.0
PRODID:-//aldridgegardens.com//NONSGML kigkonsult.se iCalcreator 2.30.10//
CALSCALE:GREGORIAN
METHOD:PUBLISH
UID:15f298b4-ea5d-4878-8a44-25a5e417fbe7
X-WR-CALDESC:June 4 - 8\nEntering Grades 5k – 3\n\nBuild and create with na
 ture! \n\nInstructor: Mandy Cramer
X-WR-RELCALID:c9165a60d0e6810cc1caa271d9dfcd48
X-WR-TIMEZONE:America/Chicago
BEGIN:VTIMEZONE
TZID:America/Chicago
BEGIN:STANDARD
TZNAME:CST
DTSTART:20171105T020000
TZOFFSETFROM:-0500
TZOFFSETTO:-0600
RDATE:20181104T020000
RDATE:20191103T020000
END:STANDARD
BEGIN:DAYLIGHT
TZNAME:CDT
DTSTART:20180311T020000
TZOFFSETFROM:-0600
TZOFFSETTO:-0500
RDATE:20190310T020000
END:DAYLIGHT
END:VTIMEZONE
BEGIN:VEVENT
UID:c7ca7445-ac79-4c9b-b245-e60a2ae1223e
DTSTAMP:20260421T032420Z
DESCRIPTION:June 4 - 8\nEntering Grades 5k – 3\n\nBuild and create with nat
 ure! \n\nInstructor: Mandy Cramer
DTSTART;TZID=America/Chicago:20180604T090000
DTEND;TZID=America/Chicago:20180604T120000
LOCATION:
SUMMARY:Summer Camp: Engineering and Construction Grades 5k-3rd
END:VEVENT
END:VCALENDAR
