BEGIN:VCALENDAR
VERSION:2.0
PRODID:-//aldridgegardens.com//NONSGML kigkonsult.se iCalcreator 2.30.10//
CALSCALE:GREGORIAN
METHOD:PUBLISH
UID:3c493ed8-276e-4dcf-99d7-08802c7525a7
X-WR-CALDESC:June 4 - 8\nEntering Grades 5k – 3\n\nDesign\, invent\, and co
 nstruct something new with everyday objects. \n\nInstructor: Elizabeth Loc
 hamy\n\n<b>Registration for this camp is closed.</b>\n
X-WR-RELCALID:b5b7bb7cd8db46b8c95f7cfc8237feb7
X-WR-TIMEZONE:America/Chicago
BEGIN:VTIMEZONE
TZID:America/Chicago
BEGIN:STANDARD
TZNAME:CST
DTSTART:20171105T020000
TZOFFSETFROM:-0500
TZOFFSETTO:-0600
RDATE:20181104T020000
RDATE:20191103T020000
END:STANDARD
BEGIN:DAYLIGHT
TZNAME:CDT
DTSTART:20180311T020000
TZOFFSETFROM:-0600
TZOFFSETTO:-0500
RDATE:20190310T020000
END:DAYLIGHT
END:VTIMEZONE
BEGIN:VEVENT
UID:cd11464f-7bc6-4d38-9545-2eb59bc556fa
DTSTAMP:20260421T032259Z
DESCRIPTION:June 4 - 8\nEntering Grades 5k – 3\n\nDesign\, invent\, and con
 struct something new with everyday objects. \n\nInstructor: Elizabeth Loch
 amy\n\n<b>Registration for this camp is closed.</b>\n
DTSTART;TZID=America/Chicago:20180604T090000
DTEND;TZID=America/Chicago:20180604T120000
LOCATION:
SUMMARY:Summer Camp: Maker-Space Makers Grades 5k-3rd
END:VEVENT
END:VCALENDAR
