BEGIN:VCALENDAR
VERSION:2.0
PRODID:-//aldridgegardens.com//NONSGML kigkonsult.se iCalcreator 2.30.10//
CALSCALE:GREGORIAN
METHOD:PUBLISH
UID:824d7d84-025b-4336-91ca-f8b214abf451
X-WR-CALDESC:<b>Summer Camps for the week of June 4 - 8</b>\n\nAmerican Gir
 l Dolls (5K-3)\nBring your doll for tea parties and group activities. Make
  crafts and accessories for you and your doll. (Includes My Life or Our Ge
 neration Dolls) Instructor: Kayla Latuso\n\nMaker-Space Makers (5K-3) \nDe
 sign\, invent\, and construct something new with everyday objects. Instruc
 tor: Elizabeth Lochamy\n\nCool Art (5K-3)\nUnleash your creativity. Make t
 hings. Something BIG\, colorful\, and wild! Instructor: Leigh Smith\n\nEng
 ineering & Construction (5K-3)\nBuild and create with nature! Instructor: 
 Mandy Cramer\n
X-WR-RELCALID:2e0cc0b94d65ed303e12abfafce140c6
X-WR-TIMEZONE:America/Chicago
BEGIN:VTIMEZONE
TZID:America/Chicago
BEGIN:STANDARD
TZNAME:CST
DTSTART:20171105T020000
TZOFFSETFROM:-0500
TZOFFSETTO:-0600
RDATE:20181104T020000
RDATE:20191103T020000
END:STANDARD
BEGIN:DAYLIGHT
TZNAME:CDT
DTSTART:20180311T020000
TZOFFSETFROM:-0600
TZOFFSETTO:-0500
RDATE:20190310T020000
END:DAYLIGHT
END:VTIMEZONE
BEGIN:VEVENT
UID:533dba4e-c716-4a7c-b3b9-bf7bb63a7ada
DTSTAMP:20260421T032606Z
DESCRIPTION:<b>Summer Camps for the week of June 4 - 8</b>\n\nAmerican Girl
  Dolls (5K-3)\nBring your doll for tea parties and group activities. Make 
 crafts and accessories for you and your doll. (Includes My Life or Our Gen
 eration Dolls) Instructor: Kayla Latuso\n\nMaker-Space Makers (5K-3) \nDes
 ign\, invent\, and construct something new with everyday objects. Instruct
 or: Elizabeth Lochamy\n\nCool Art (5K-3)\nUnleash your creativity. Make th
 ings. Something BIG\, colorful\, and wild! Instructor: Leigh Smith\n\nEngi
 neering & Construction (5K-3)\nBuild and create with nature! Instructor: M
 andy Cramer\n
DTSTART;TZID=America/Chicago:20180607T090000
DTEND;TZID=America/Chicago:20180607T120000
LOCATION:
SUMMARY:Summer Camps
END:VEVENT
END:VCALENDAR
