BEGIN:VCALENDAR
VERSION:2.0
PRODID:-//aldridgegardens.com//NONSGML kigkonsult.se iCalcreator 2.30.10//
CALSCALE:GREGORIAN
METHOD:PUBLISH
UID:8a820d20-feb8-4235-8a56-ce1744bb8c0a
X-WR-CALDESC:\n<b>This event is SOLD OUT!</b>\n\nJoin us for Hoover's socia
 l event of the year under the stars! Make plans now to be a part of our pr
 emier annual fundraiser and garden gala. Enjoy a special evening of great 
 food\, entertainment\, with both silent and live auctions all to benefit A
 ldridge Gardens. \n\n<b>Reception and silent auction begin at 6:00.\nDinne
 r and live auction begin at 7:30.</b>\n\nDonations obtained throughout the
  year and through events like Hydrangeas Under the Stars help our Gardens 
 grow. Your support allows us to continue to provide a unique garden experi
 ence by offering exceptional venues for weddings\, parties\, social\, and 
 corporate events\, serving as a source for educational field trips\, progr
 ams\, and camps for thousands of children each year\, plus being a tranqui
 l destination perfect for walking\, bird watching\, reflection and so much
  more. \n\nTake a look at our tickets and sponsorship packages in the rela
 ted links section below our contact information. Or call us for auction it
 em donations\, sponsorship opportunities\, and to find out how you can be 
 part of this terrific night of fun and fundraising! \n\nTo get a better id
 ea of the event\, see our recap of one of our past <a href='http://aldridg
 egardens.com/education/events/annual_events/hydrangeas-under-the-stars.htm
 l'>Hydrangeas Under the Stars</a> events! \n\n<b>This event is SOLD OUT!</
 b>\n
X-WR-RELCALID:07518305ffa1c16a7008776859055209
X-WR-TIMEZONE:America/Chicago
BEGIN:VTIMEZONE
TZID:America/Chicago
BEGIN:STANDARD
TZNAME:CST
DTSTART:20171105T020000
TZOFFSETFROM:-0500
TZOFFSETTO:-0600
RDATE:20181104T020000
RDATE:20191103T020000
END:STANDARD
BEGIN:DAYLIGHT
TZNAME:CDT
DTSTART:20180311T020000
TZOFFSETFROM:-0600
TZOFFSETTO:-0500
RDATE:20190310T020000
END:DAYLIGHT
END:VTIMEZONE
BEGIN:VEVENT
UID:57c0f3f0-0621-4153-b057-c29715678d00
DTSTAMP:20260421T032324Z
DESCRIPTION:\n<b>This event is SOLD OUT!</b>\n\nJoin us for Hoover's social
  event of the year under the stars! Make plans now to be a part of our pre
 mier annual fundraiser and garden gala. Enjoy a special evening of great f
 ood\, entertainment\, with both silent and live auctions all to benefit Al
 dridge Gardens. \n\n<b>Reception and silent auction begin at 6:00.\nDinner
  and live auction begin at 7:30.</b>\n\nDonations obtained throughout the 
 year and through events like Hydrangeas Under the Stars help our Gardens g
 row. Your support allows us to continue to provide a unique garden experie
 nce by offering exceptional venues for weddings\, parties\, social\, and c
 orporate events\, serving as a source for educational field trips\, progra
 ms\, and camps for thousands of children each year\, plus being a tranquil
  destination perfect for walking\, bird watching\, reflection and so much 
 more. \n\nTake a look at our tickets and sponsorship packages in the relat
 ed links section below our contact information. Or call us for auction ite
 m donations\, sponsorship opportunities\, and to find out how you can be p
 art of this terrific night of fun and fundraising! \n\nTo get a better ide
 a of the event\, see our recap of one of our past <a href='http://aldridge
 gardens.com/education/events/annual_events/hydrangeas-under-the-stars.html
 '>Hydrangeas Under the Stars</a> events! \n\n<b>This event is SOLD OUT!</b
 >\n
DTSTART;TZID=America/Chicago:20180609T180000
DTEND;TZID=America/Chicago:20180609T210000
LOCATION:
SUMMARY:Hydrangeas Under the Stars
END:VEVENT
END:VCALENDAR
