BEGIN:VCALENDAR
VERSION:2.0
PRODID:-//aldridgegardens.com//NONSGML kigkonsult.se iCalcreator 2.30.10//
CALSCALE:GREGORIAN
METHOD:PUBLISH
UID:4fb34875-aeec-44ab-8be8-83405d79d9db
X-WR-CALDESC:June 11 - 15\nEntering Grades 3rd-5th\n\nIt’s time for summer!
  Girls\, are you ready for some fun? Bring your doll to camp at Aldridge G
 ardens. (May also include My Life or Our Generation Dolls.) You and your d
 oll will explore the magic of the Gardens\, you’ll make all kinds of acces
 sories and crafts for you and your dolls\, and even have a tea party!  Joi
 n us as we make new friends and great memories!\n\nInstructor: Nancy McGow
 an
X-WR-RELCALID:b62fa94d146c11cda1f2df420259c618
X-WR-TIMEZONE:America/Chicago
BEGIN:VTIMEZONE
TZID:America/Chicago
BEGIN:STANDARD
TZNAME:CST
DTSTART:20171105T020000
TZOFFSETFROM:-0500
TZOFFSETTO:-0600
RDATE:20181104T020000
RDATE:20191103T020000
END:STANDARD
BEGIN:DAYLIGHT
TZNAME:CDT
DTSTART:20180311T020000
TZOFFSETFROM:-0600
TZOFFSETTO:-0500
RDATE:20190310T020000
END:DAYLIGHT
END:VTIMEZONE
BEGIN:VEVENT
UID:920256ac-b6d9-49df-b5f0-30a3ccddd0d8
DTSTAMP:20260421T032653Z
DESCRIPTION:June 11 - 15\nEntering Grades 3rd-5th\n\nIt’s time for summer! 
 Girls\, are you ready for some fun? Bring your doll to camp at Aldridge Ga
 rdens. (May also include My Life or Our Generation Dolls.) You and your do
 ll will explore the magic of the Gardens\, you’ll make all kinds of access
 ories and crafts for you and your dolls\, and even have a tea party!  Join
  us as we make new friends and great memories!\n\nInstructor: Nancy McGowa
 n
DTSTART;TZID=America/Chicago:20180611T090000
DTEND;TZID=America/Chicago:20180611T120000
LOCATION:
SUMMARY:Summer Camp: American Girl Dolls Grades 3rd-5th
END:VEVENT
END:VCALENDAR
